BEGIN:VCALENDAR
VERSION:2.0
PRODID:-//Voices of Faith North - ECPv6.15.20//NONSGML v1.0//EN
CALSCALE:GREGORIAN
METHOD:PUBLISH
X-ORIGINAL-URL:https://vofn.org
X-WR-CALDESC:Events for Voices of Faith North
REFRESH-INTERVAL;VALUE=DURATION:PT1H
X-Robots-Tag:noindex
X-PUBLISHED-TTL:PT1H
BEGIN:VTIMEZONE
TZID:America/New_York
BEGIN:DAYLIGHT
TZOFFSETFROM:-0500
TZOFFSETTO:-0400
TZNAME:EDT
DTSTART:20240310T070000
END:DAYLIGHT
BEGIN:STANDARD
TZOFFSETFROM:-0400
TZOFFSETTO:-0500
TZNAME:EST
DTSTART:20241103T060000
END:STANDARD
BEGIN:DAYLIGHT
TZOFFSETFROM:-0500
TZOFFSETTO:-0400
TZNAME:EDT
DTSTART:20250309T070000
END:DAYLIGHT
BEGIN:STANDARD
TZOFFSETFROM:-0400
TZOFFSETTO:-0500
TZNAME:EST
DTSTART:20251102T060000
END:STANDARD
BEGIN:DAYLIGHT
TZOFFSETFROM:-0500
TZOFFSETTO:-0400
TZNAME:EDT
DTSTART:20260308T070000
END:DAYLIGHT
BEGIN:STANDARD
TZOFFSETFROM:-0400
TZOFFSETTO:-0500
TZNAME:EST
DTSTART:20261101T060000
END:STANDARD
END:VTIMEZONE
BEGIN:VEVENT
DTSTART;TZID=America/New_York:20250621T090000
DTEND;TZID=America/New_York:20250621T110000
DTSTAMP:20260424T054637
CREATED:20250216T194726Z
LAST-MODIFIED:20250522T012437Z
UID:10000625-1750496400-1750503600@vofn.org
SUMMARY:Men's Ministry Meeting
DESCRIPTION:Men’s Ministry Fellowship: Firearm Safety EducationJoin us for an engaging and essential Men’s Ministry Fellowship focused on Firearm Safety\, taught by certified NRA Instructor Douglas  James. Whether you’re a seasoned gun owner or just starting out\, this event will provide valuable knowledge to help protect your home\, family\, and community. Young men 12 and up invite – Learn the practical application of: \n\nBiblical perspective on responsibility and protection\nFirearm handling basics and best practices\nSafe storage and access strategies\nQ&A session to follow
URL:https://vofn.org/event/mens-ministry-meeting/
LOCATION:Voices of Faith North\, 2500 Clean Water Ct\, Buford\, GA\, 30519\, United States
ATTACH;FMTTYPE=image/jpeg:https://vofn.org/wp-content/uploads/2025/02/Mens-Ministry.jpg
END:VEVENT
END:VCALENDAR