BEGIN:VCALENDAR
VERSION:2.0
PRODID:-//Voices of Faith North - ECPv6.15.20//NONSGML v1.0//EN
CALSCALE:GREGORIAN
METHOD:PUBLISH
X-ORIGINAL-URL:https://vofn.org
X-WR-CALDESC:Events for Voices of Faith North
REFRESH-INTERVAL;VALUE=DURATION:PT1H
X-Robots-Tag:noindex
X-PUBLISHED-TTL:PT1H
BEGIN:VTIMEZONE
TZID:America/New_York
BEGIN:DAYLIGHT
TZOFFSETFROM:-0500
TZOFFSETTO:-0400
TZNAME:EDT
DTSTART:20240310T070000
END:DAYLIGHT
BEGIN:STANDARD
TZOFFSETFROM:-0400
TZOFFSETTO:-0500
TZNAME:EST
DTSTART:20241103T060000
END:STANDARD
BEGIN:DAYLIGHT
TZOFFSETFROM:-0500
TZOFFSETTO:-0400
TZNAME:EDT
DTSTART:20250309T070000
END:DAYLIGHT
BEGIN:STANDARD
TZOFFSETFROM:-0400
TZOFFSETTO:-0500
TZNAME:EST
DTSTART:20251102T060000
END:STANDARD
BEGIN:DAYLIGHT
TZOFFSETFROM:-0500
TZOFFSETTO:-0400
TZNAME:EDT
DTSTART:20260308T070000
END:DAYLIGHT
BEGIN:STANDARD
TZOFFSETFROM:-0400
TZOFFSETTO:-0500
TZNAME:EST
DTSTART:20261101T060000
END:STANDARD
END:VTIMEZONE
BEGIN:VEVENT
DTSTART;VALUE=DATE:20250719
DTEND;VALUE=DATE:20250720
DTSTAMP:20260424T041342
CREATED:20240719T040035Z
LAST-MODIFIED:20250623T152520Z
UID:10000009-1752883200-1752969599@vofn.org
SUMMARY:Back-To-School Event
DESCRIPTION:Register by clicking on link to receive a back-to-school bookbag during the VOF North Back to School Giveaway.
URL:https://vofn.org/event/back-to-school-event/
LOCATION:Voices of Faith North\, 2500 Clean Water Ct\, Buford\, GA\, 30519\, United States
ATTACH;FMTTYPE=image/png:https://vofn.org/wp-content/uploads/2025/07/backtoschool.png
ORGANIZER;CN="Pastor Mark Duncan":MAILTO:pastorduncan@voicesfailth.org
END:VEVENT
BEGIN:VEVENT
DTSTART;TZID=America/New_York:20250719T100000
DTEND;TZID=America/New_York:20250719T110000
DTSTAMP:20260424T041342
CREATED:20250216T003755Z
LAST-MODIFIED:20250704T151427Z
UID:10000605-1752919200-1752922800@vofn.org
SUMMARY:Women's Ministry Meeting
DESCRIPTION:
URL:https://vofn.org/event/womens-ministry-meeting/
LOCATION:Voices of Faith North\, 2500 Clean Water Ct\, Buford\, GA\, 30519\, United States
ATTACH;FMTTYPE=image/jpeg:https://vofn.org/wp-content/uploads/2025/01/SistersInChrist-1.jpg
ORGANIZER;CN="Elder Tiny Jackson":MAILTO:tiny.jackson@vofn.org
END:VEVENT
END:VCALENDAR