BEGIN:VCALENDAR
VERSION:2.0
PRODID:-//Voices of Faith North - ECPv6.15.20//NONSGML v1.0//EN
CALSCALE:GREGORIAN
METHOD:PUBLISH
X-ORIGINAL-URL:https://vofn.org
X-WR-CALDESC:Events for Voices of Faith North
REFRESH-INTERVAL;VALUE=DURATION:PT1H
X-Robots-Tag:noindex
X-PUBLISHED-TTL:PT1H
BEGIN:VTIMEZONE
TZID:America/New_York
BEGIN:DAYLIGHT
TZOFFSETFROM:-0500
TZOFFSETTO:-0400
TZNAME:EDT
DTSTART:20250309T070000
END:DAYLIGHT
BEGIN:STANDARD
TZOFFSETFROM:-0400
TZOFFSETTO:-0500
TZNAME:EST
DTSTART:20251102T060000
END:STANDARD
BEGIN:DAYLIGHT
TZOFFSETFROM:-0500
TZOFFSETTO:-0400
TZNAME:EDT
DTSTART:20260308T070000
END:DAYLIGHT
BEGIN:STANDARD
TZOFFSETFROM:-0400
TZOFFSETTO:-0500
TZNAME:EST
DTSTART:20261101T060000
END:STANDARD
BEGIN:DAYLIGHT
TZOFFSETFROM:-0500
TZOFFSETTO:-0400
TZNAME:EDT
DTSTART:20270314T070000
END:DAYLIGHT
BEGIN:STANDARD
TZOFFSETFROM:-0400
TZOFFSETTO:-0500
TZNAME:EST
DTSTART:20271107T060000
END:STANDARD
END:VTIMEZONE
BEGIN:VEVENT
DTSTART;TZID=America/New_York:20261103T190000
DTEND;TZID=America/New_York:20261103T193000
DTSTAMP:20260424T001117
CREATED:20240124T035043Z
LAST-MODIFIED:20250424T161429Z
UID:10000433-1793732400-1793734200@vofn.org
SUMMARY:Weekly Bible Study
DESCRIPTION:
URL:https://vofn.org/event/weekly-bible-study/2026-11-03/
LOCATION:Online Event\, GA\, United States
CATEGORIES:Bible Study
ATTACH;FMTTYPE=image/png:https://vofn.org/wp-content/uploads/2025/04/BibleStudy_v2.png
ORGANIZER;CN="Pastor Mark Duncan":MAILTO:pastorduncan@voicesfailth.org
END:VEVENT
BEGIN:VEVENT
DTSTART;TZID=America/New_York:20261110T190000
DTEND;TZID=America/New_York:20261110T193000
DTSTAMP:20260424T001117
CREATED:20240124T035043Z
LAST-MODIFIED:20250424T161429Z
UID:10000434-1794337200-1794339000@vofn.org
SUMMARY:Weekly Bible Study
DESCRIPTION:
URL:https://vofn.org/event/weekly-bible-study/2026-11-10/
LOCATION:Online Event\, GA\, United States
CATEGORIES:Bible Study
ATTACH;FMTTYPE=image/png:https://vofn.org/wp-content/uploads/2025/04/BibleStudy_v2.png
ORGANIZER;CN="Pastor Mark Duncan":MAILTO:pastorduncan@voicesfailth.org
END:VEVENT
BEGIN:VEVENT
DTSTART;TZID=America/New_York:20261117T190000
DTEND;TZID=America/New_York:20261117T193000
DTSTAMP:20260424T001117
CREATED:20240124T035043Z
LAST-MODIFIED:20250424T161429Z
UID:10000435-1794942000-1794943800@vofn.org
SUMMARY:Weekly Bible Study
DESCRIPTION:
URL:https://vofn.org/event/weekly-bible-study/2026-11-17/
LOCATION:Online Event\, GA\, United States
CATEGORIES:Bible Study
ATTACH;FMTTYPE=image/png:https://vofn.org/wp-content/uploads/2025/04/BibleStudy_v2.png
ORGANIZER;CN="Pastor Mark Duncan":MAILTO:pastorduncan@voicesfailth.org
END:VEVENT
BEGIN:VEVENT
DTSTART;TZID=America/New_York:20261124T190000
DTEND;TZID=America/New_York:20261124T193000
DTSTAMP:20260424T001117
CREATED:20240124T035043Z
LAST-MODIFIED:20250424T161429Z
UID:10000436-1795546800-1795548600@vofn.org
SUMMARY:Weekly Bible Study
DESCRIPTION:
URL:https://vofn.org/event/weekly-bible-study/2026-11-24/
LOCATION:Online Event\, GA\, United States
CATEGORIES:Bible Study
ATTACH;FMTTYPE=image/png:https://vofn.org/wp-content/uploads/2025/04/BibleStudy_v2.png
ORGANIZER;CN="Pastor Mark Duncan":MAILTO:pastorduncan@voicesfailth.org
END:VEVENT
END:VCALENDAR