BEGIN:VCALENDAR
VERSION:2.0
PRODID:-//Voices of Faith North - ECPv6.15.20//NONSGML v1.0//EN
CALSCALE:GREGORIAN
METHOD:PUBLISH
X-ORIGINAL-URL:https://vofn.org
X-WR-CALDESC:Events for Voices of Faith North
REFRESH-INTERVAL;VALUE=DURATION:PT1H
X-Robots-Tag:noindex
X-PUBLISHED-TTL:PT1H
BEGIN:VTIMEZONE
TZID:America/New_York
BEGIN:DAYLIGHT
TZOFFSETFROM:-0500
TZOFFSETTO:-0400
TZNAME:EDT
DTSTART:20290311T070000
END:DAYLIGHT
BEGIN:STANDARD
TZOFFSETFROM:-0400
TZOFFSETTO:-0500
TZNAME:EST
DTSTART:20291104T060000
END:STANDARD
BEGIN:DAYLIGHT
TZOFFSETFROM:-0500
TZOFFSETTO:-0400
TZNAME:EDT
DTSTART:20300310T070000
END:DAYLIGHT
BEGIN:STANDARD
TZOFFSETFROM:-0400
TZOFFSETTO:-0500
TZNAME:EST
DTSTART:20301103T060000
END:STANDARD
BEGIN:DAYLIGHT
TZOFFSETFROM:-0500
TZOFFSETTO:-0400
TZNAME:EDT
DTSTART:20310309T070000
END:DAYLIGHT
BEGIN:STANDARD
TZOFFSETFROM:-0400
TZOFFSETTO:-0500
TZNAME:EST
DTSTART:20311102T060000
END:STANDARD
END:VTIMEZONE
BEGIN:VEVENT
DTSTART;TZID=America/New_York:20300310T103000
DTEND;TZID=America/New_York:20300310T120000
DTSTAMP:20260425T094214
CREATED:20230225T224251Z
LAST-MODIFIED:20260311T195541Z
UID:10000646-1899369000-1899374400@vofn.org
SUMMARY:Voices of Faith North - Sunday Service
DESCRIPTION:Join us for a dynamic faith-based service\, at voices of faith north.
URL:https://vofn.org/event/voices-of-faith-north-sunday-service/2030-03-10/
LOCATION:Voices of Faith North\, 2500 Clean Water Ct\, Buford\, GA\, 30519\, United States
CATEGORIES:Sunday Service
ATTACH;FMTTYPE=image/png:https://vofn.org/wp-content/uploads/2024/03/Pastor.png
END:VEVENT
BEGIN:VEVENT
DTSTART;TZID=America/New_York:20300317T103000
DTEND;TZID=America/New_York:20300317T120000
DTSTAMP:20260425T094214
CREATED:20230225T224251Z
LAST-MODIFIED:20260311T195541Z
UID:10000647-1899973800-1899979200@vofn.org
SUMMARY:Voices of Faith North - Sunday Service
DESCRIPTION:Join us for a dynamic faith-based service\, at voices of faith north.
URL:https://vofn.org/event/voices-of-faith-north-sunday-service/2030-03-17/
LOCATION:Voices of Faith North\, 2500 Clean Water Ct\, Buford\, GA\, 30519\, United States
CATEGORIES:Sunday Service
ATTACH;FMTTYPE=image/png:https://vofn.org/wp-content/uploads/2024/03/Pastor.png
END:VEVENT
BEGIN:VEVENT
DTSTART;TZID=America/New_York:20300324T103000
DTEND;TZID=America/New_York:20300324T120000
DTSTAMP:20260425T094214
CREATED:20230225T224251Z
LAST-MODIFIED:20260311T195541Z
UID:10000648-1900578600-1900584000@vofn.org
SUMMARY:Voices of Faith North - Sunday Service
DESCRIPTION:Join us for a dynamic faith-based service\, at voices of faith north.
URL:https://vofn.org/event/voices-of-faith-north-sunday-service/2030-03-24/
LOCATION:Voices of Faith North\, 2500 Clean Water Ct\, Buford\, GA\, 30519\, United States
CATEGORIES:Sunday Service
ATTACH;FMTTYPE=image/png:https://vofn.org/wp-content/uploads/2024/03/Pastor.png
END:VEVENT
BEGIN:VEVENT
DTSTART;TZID=America/New_York:20300331T103000
DTEND;TZID=America/New_York:20300331T120000
DTSTAMP:20260425T094214
CREATED:20230225T224251Z
LAST-MODIFIED:20260311T195541Z
UID:10000649-1901183400-1901188800@vofn.org
SUMMARY:Voices of Faith North - Sunday Service
DESCRIPTION:Join us for a dynamic faith-based service\, at voices of faith north.
URL:https://vofn.org/event/voices-of-faith-north-sunday-service/2030-03-31/
LOCATION:Voices of Faith North\, 2500 Clean Water Ct\, Buford\, GA\, 30519\, United States
CATEGORIES:Sunday Service
ATTACH;FMTTYPE=image/png:https://vofn.org/wp-content/uploads/2024/03/Pastor.png
END:VEVENT
BEGIN:VEVENT
DTSTART;TZID=America/New_York:20300407T103000
DTEND;TZID=America/New_York:20300407T120000
DTSTAMP:20260425T094214
CREATED:20230225T224251Z
LAST-MODIFIED:20260311T195541Z
UID:10000679-1901788200-1901793600@vofn.org
SUMMARY:Voices of Faith North - Sunday Service
DESCRIPTION:Join us for a dynamic faith-based service\, at voices of faith north.
URL:https://vofn.org/event/voices-of-faith-north-sunday-service/2030-04-07/
LOCATION:Voices of Faith North\, 2500 Clean Water Ct\, Buford\, GA\, 30519\, United States
CATEGORIES:Sunday Service
ATTACH;FMTTYPE=image/png:https://vofn.org/wp-content/uploads/2024/03/Pastor.png
END:VEVENT
BEGIN:VEVENT
DTSTART;TZID=America/New_York:20300414T103000
DTEND;TZID=America/New_York:20300414T120000
DTSTAMP:20260425T094214
CREATED:20230225T224251Z
LAST-MODIFIED:20260311T195541Z
UID:10000680-1902393000-1902398400@vofn.org
SUMMARY:Voices of Faith North - Sunday Service
DESCRIPTION:Join us for a dynamic faith-based service\, at voices of faith north.
URL:https://vofn.org/event/voices-of-faith-north-sunday-service/2030-04-14/
LOCATION:Voices of Faith North\, 2500 Clean Water Ct\, Buford\, GA\, 30519\, United States
CATEGORIES:Sunday Service
ATTACH;FMTTYPE=image/png:https://vofn.org/wp-content/uploads/2024/03/Pastor.png
END:VEVENT
BEGIN:VEVENT
DTSTART;TZID=America/New_York:20300421T103000
DTEND;TZID=America/New_York:20300421T120000
DTSTAMP:20260425T094214
CREATED:20230225T224251Z
LAST-MODIFIED:20260311T195541Z
UID:10000681-1902997800-1903003200@vofn.org
SUMMARY:Voices of Faith North - Sunday Service
DESCRIPTION:Join us for a dynamic faith-based service\, at voices of faith north.
URL:https://vofn.org/event/voices-of-faith-north-sunday-service/2030-04-21/
LOCATION:Voices of Faith North\, 2500 Clean Water Ct\, Buford\, GA\, 30519\, United States
CATEGORIES:Sunday Service
ATTACH;FMTTYPE=image/png:https://vofn.org/wp-content/uploads/2024/03/Pastor.png
END:VEVENT
BEGIN:VEVENT
DTSTART;TZID=America/New_York:20300428T103000
DTEND;TZID=America/New_York:20300428T120000
DTSTAMP:20260425T094214
CREATED:20230225T224251Z
LAST-MODIFIED:20260311T195541Z
UID:10000682-1903602600-1903608000@vofn.org
SUMMARY:Voices of Faith North - Sunday Service
DESCRIPTION:Join us for a dynamic faith-based service\, at voices of faith north.
URL:https://vofn.org/event/voices-of-faith-north-sunday-service/2030-04-28/
LOCATION:Voices of Faith North\, 2500 Clean Water Ct\, Buford\, GA\, 30519\, United States
CATEGORIES:Sunday Service
ATTACH;FMTTYPE=image/png:https://vofn.org/wp-content/uploads/2024/03/Pastor.png
END:VEVENT
BEGIN:VEVENT
DTSTART;TZID=America/New_York:20300505T103000
DTEND;TZID=America/New_York:20300505T120000
DTSTAMP:20260425T094214
CREATED:20230225T224251Z
LAST-MODIFIED:20260311T195541Z
UID:10000683-1904207400-1904212800@vofn.org
SUMMARY:Voices of Faith North - Sunday Service
DESCRIPTION:Join us for a dynamic faith-based service\, at voices of faith north.
URL:https://vofn.org/event/voices-of-faith-north-sunday-service/2030-05-05/
LOCATION:Voices of Faith North\, 2500 Clean Water Ct\, Buford\, GA\, 30519\, United States
CATEGORIES:Sunday Service
ATTACH;FMTTYPE=image/png:https://vofn.org/wp-content/uploads/2024/03/Pastor.png
END:VEVENT
BEGIN:VEVENT
DTSTART;TZID=America/New_York:20300512T103000
DTEND;TZID=America/New_York:20300512T120000
DTSTAMP:20260425T094214
CREATED:20230225T224251Z
LAST-MODIFIED:20260311T195541Z
UID:10000684-1904812200-1904817600@vofn.org
SUMMARY:Voices of Faith North - Sunday Service
DESCRIPTION:Join us for a dynamic faith-based service\, at voices of faith north.
URL:https://vofn.org/event/voices-of-faith-north-sunday-service/2030-05-12/
LOCATION:Voices of Faith North\, 2500 Clean Water Ct\, Buford\, GA\, 30519\, United States
CATEGORIES:Sunday Service
ATTACH;FMTTYPE=image/png:https://vofn.org/wp-content/uploads/2024/03/Pastor.png
END:VEVENT
BEGIN:VEVENT
DTSTART;TZID=America/New_York:20300519T103000
DTEND;TZID=America/New_York:20300519T120000
DTSTAMP:20260425T094214
CREATED:20230225T224251Z
LAST-MODIFIED:20260311T195541Z
UID:10000685-1905417000-1905422400@vofn.org
SUMMARY:Voices of Faith North - Sunday Service
DESCRIPTION:Join us for a dynamic faith-based service\, at voices of faith north.
URL:https://vofn.org/event/voices-of-faith-north-sunday-service/2030-05-19/
LOCATION:Voices of Faith North\, 2500 Clean Water Ct\, Buford\, GA\, 30519\, United States
CATEGORIES:Sunday Service
ATTACH;FMTTYPE=image/png:https://vofn.org/wp-content/uploads/2024/03/Pastor.png
END:VEVENT
BEGIN:VEVENT
DTSTART;TZID=America/New_York:20300526T103000
DTEND;TZID=America/New_York:20300526T120000
DTSTAMP:20260425T094214
CREATED:20230225T224251Z
LAST-MODIFIED:20260311T195541Z
UID:10000686-1906021800-1906027200@vofn.org
SUMMARY:Voices of Faith North - Sunday Service
DESCRIPTION:Join us for a dynamic faith-based service\, at voices of faith north.
URL:https://vofn.org/event/voices-of-faith-north-sunday-service/2030-05-26/
LOCATION:Voices of Faith North\, 2500 Clean Water Ct\, Buford\, GA\, 30519\, United States
CATEGORIES:Sunday Service
ATTACH;FMTTYPE=image/png:https://vofn.org/wp-content/uploads/2024/03/Pastor.png
END:VEVENT
BEGIN:VEVENT
DTSTART;TZID=America/New_York:20300602T103000
DTEND;TZID=America/New_York:20300602T120000
DTSTAMP:20260425T094214
CREATED:20230225T224251Z
LAST-MODIFIED:20260311T195541Z
UID:10000687-1906626600-1906632000@vofn.org
SUMMARY:Voices of Faith North - Sunday Service
DESCRIPTION:Join us for a dynamic faith-based service\, at voices of faith north.
URL:https://vofn.org/event/voices-of-faith-north-sunday-service/2030-06-02/
LOCATION:Voices of Faith North\, 2500 Clean Water Ct\, Buford\, GA\, 30519\, United States
CATEGORIES:Sunday Service
ATTACH;FMTTYPE=image/png:https://vofn.org/wp-content/uploads/2024/03/Pastor.png
END:VEVENT
BEGIN:VEVENT
DTSTART;TZID=America/New_York:20300609T103000
DTEND;TZID=America/New_York:20300609T120000
DTSTAMP:20260425T094214
CREATED:20230225T224251Z
LAST-MODIFIED:20260311T195541Z
UID:10000688-1907231400-1907236800@vofn.org
SUMMARY:Voices of Faith North - Sunday Service
DESCRIPTION:Join us for a dynamic faith-based service\, at voices of faith north.
URL:https://vofn.org/event/voices-of-faith-north-sunday-service/2030-06-09/
LOCATION:Voices of Faith North\, 2500 Clean Water Ct\, Buford\, GA\, 30519\, United States
CATEGORIES:Sunday Service
ATTACH;FMTTYPE=image/png:https://vofn.org/wp-content/uploads/2024/03/Pastor.png
END:VEVENT
BEGIN:VEVENT
DTSTART;TZID=America/New_York:20300616T103000
DTEND;TZID=America/New_York:20300616T120000
DTSTAMP:20260425T094214
CREATED:20230225T224251Z
LAST-MODIFIED:20260311T195541Z
UID:10000689-1907836200-1907841600@vofn.org
SUMMARY:Voices of Faith North - Sunday Service
DESCRIPTION:Join us for a dynamic faith-based service\, at voices of faith north.
URL:https://vofn.org/event/voices-of-faith-north-sunday-service/2030-06-16/
LOCATION:Voices of Faith North\, 2500 Clean Water Ct\, Buford\, GA\, 30519\, United States
CATEGORIES:Sunday Service
ATTACH;FMTTYPE=image/png:https://vofn.org/wp-content/uploads/2024/03/Pastor.png
END:VEVENT
BEGIN:VEVENT
DTSTART;TZID=America/New_York:20300623T103000
DTEND;TZID=America/New_York:20300623T120000
DTSTAMP:20260425T094214
CREATED:20230225T224251Z
LAST-MODIFIED:20260311T195541Z
UID:10000690-1908441000-1908446400@vofn.org
SUMMARY:Voices of Faith North - Sunday Service
DESCRIPTION:Join us for a dynamic faith-based service\, at voices of faith north.
URL:https://vofn.org/event/voices-of-faith-north-sunday-service/2030-06-23/
LOCATION:Voices of Faith North\, 2500 Clean Water Ct\, Buford\, GA\, 30519\, United States
CATEGORIES:Sunday Service
ATTACH;FMTTYPE=image/png:https://vofn.org/wp-content/uploads/2024/03/Pastor.png
END:VEVENT
BEGIN:VEVENT
DTSTART;TZID=America/New_York:20300630T103000
DTEND;TZID=America/New_York:20300630T120000
DTSTAMP:20260425T094214
CREATED:20230225T224251Z
LAST-MODIFIED:20260311T195541Z
UID:10000691-1909045800-1909051200@vofn.org
SUMMARY:Voices of Faith North - Sunday Service
DESCRIPTION:Join us for a dynamic faith-based service\, at voices of faith north.
URL:https://vofn.org/event/voices-of-faith-north-sunday-service/2030-06-30/
LOCATION:Voices of Faith North\, 2500 Clean Water Ct\, Buford\, GA\, 30519\, United States
CATEGORIES:Sunday Service
ATTACH;FMTTYPE=image/png:https://vofn.org/wp-content/uploads/2024/03/Pastor.png
END:VEVENT
BEGIN:VEVENT
DTSTART;TZID=America/New_York:20300707T103000
DTEND;TZID=America/New_York:20300707T120000
DTSTAMP:20260425T094214
CREATED:20230225T224251Z
LAST-MODIFIED:20260311T195541Z
UID:10000692-1909650600-1909656000@vofn.org
SUMMARY:Voices of Faith North - Sunday Service
DESCRIPTION:Join us for a dynamic faith-based service\, at voices of faith north.
URL:https://vofn.org/event/voices-of-faith-north-sunday-service/2030-07-07/
LOCATION:Voices of Faith North\, 2500 Clean Water Ct\, Buford\, GA\, 30519\, United States
CATEGORIES:Sunday Service
ATTACH;FMTTYPE=image/png:https://vofn.org/wp-content/uploads/2024/03/Pastor.png
END:VEVENT
BEGIN:VEVENT
DTSTART;TZID=America/New_York:20300714T103000
DTEND;TZID=America/New_York:20300714T120000
DTSTAMP:20260425T094214
CREATED:20230225T224251Z
LAST-MODIFIED:20260311T195541Z
UID:10000711-1910255400-1910260800@vofn.org
SUMMARY:Voices of Faith North - Sunday Service
DESCRIPTION:Join us for a dynamic faith-based service\, at voices of faith north.
URL:https://vofn.org/event/voices-of-faith-north-sunday-service/2030-07-14/
LOCATION:Voices of Faith North\, 2500 Clean Water Ct\, Buford\, GA\, 30519\, United States
CATEGORIES:Sunday Service
ATTACH;FMTTYPE=image/png:https://vofn.org/wp-content/uploads/2024/03/Pastor.png
END:VEVENT
BEGIN:VEVENT
DTSTART;TZID=America/New_York:20300721T103000
DTEND;TZID=America/New_York:20300721T120000
DTSTAMP:20260425T094214
CREATED:20230225T224251Z
LAST-MODIFIED:20260311T195541Z
UID:10000712-1910860200-1910865600@vofn.org
SUMMARY:Voices of Faith North - Sunday Service
DESCRIPTION:Join us for a dynamic faith-based service\, at voices of faith north.
URL:https://vofn.org/event/voices-of-faith-north-sunday-service/2030-07-21/
LOCATION:Voices of Faith North\, 2500 Clean Water Ct\, Buford\, GA\, 30519\, United States
CATEGORIES:Sunday Service
ATTACH;FMTTYPE=image/png:https://vofn.org/wp-content/uploads/2024/03/Pastor.png
END:VEVENT
BEGIN:VEVENT
DTSTART;TZID=America/New_York:20300728T103000
DTEND;TZID=America/New_York:20300728T120000
DTSTAMP:20260425T094214
CREATED:20230225T224251Z
LAST-MODIFIED:20260311T195541Z
UID:10000713-1911465000-1911470400@vofn.org
SUMMARY:Voices of Faith North - Sunday Service
DESCRIPTION:Join us for a dynamic faith-based service\, at voices of faith north.
URL:https://vofn.org/event/voices-of-faith-north-sunday-service/2030-07-28/
LOCATION:Voices of Faith North\, 2500 Clean Water Ct\, Buford\, GA\, 30519\, United States
CATEGORIES:Sunday Service
ATTACH;FMTTYPE=image/png:https://vofn.org/wp-content/uploads/2024/03/Pastor.png
END:VEVENT
BEGIN:VEVENT
DTSTART;TZID=America/New_York:20300804T103000
DTEND;TZID=America/New_York:20300804T120000
DTSTAMP:20260425T094214
CREATED:20230225T224251Z
LAST-MODIFIED:20260311T195541Z
UID:10000714-1912069800-1912075200@vofn.org
SUMMARY:Voices of Faith North - Sunday Service
DESCRIPTION:Join us for a dynamic faith-based service\, at voices of faith north.
URL:https://vofn.org/event/voices-of-faith-north-sunday-service/2030-08-04/
LOCATION:Voices of Faith North\, 2500 Clean Water Ct\, Buford\, GA\, 30519\, United States
CATEGORIES:Sunday Service
ATTACH;FMTTYPE=image/png:https://vofn.org/wp-content/uploads/2024/03/Pastor.png
END:VEVENT
BEGIN:VEVENT
DTSTART;TZID=America/New_York:20300811T103000
DTEND;TZID=America/New_York:20300811T120000
DTSTAMP:20260425T094214
CREATED:20230225T224251Z
LAST-MODIFIED:20260311T195541Z
UID:10000715-1912674600-1912680000@vofn.org
SUMMARY:Voices of Faith North - Sunday Service
DESCRIPTION:Join us for a dynamic faith-based service\, at voices of faith north.
URL:https://vofn.org/event/voices-of-faith-north-sunday-service/2030-08-11/
LOCATION:Voices of Faith North\, 2500 Clean Water Ct\, Buford\, GA\, 30519\, United States
CATEGORIES:Sunday Service
ATTACH;FMTTYPE=image/png:https://vofn.org/wp-content/uploads/2024/03/Pastor.png
END:VEVENT
BEGIN:VEVENT
DTSTART;TZID=America/New_York:20300818T103000
DTEND;TZID=America/New_York:20300818T120000
DTSTAMP:20260425T094214
CREATED:20230225T224251Z
LAST-MODIFIED:20260311T195541Z
UID:10000716-1913279400-1913284800@vofn.org
SUMMARY:Voices of Faith North - Sunday Service
DESCRIPTION:Join us for a dynamic faith-based service\, at voices of faith north.
URL:https://vofn.org/event/voices-of-faith-north-sunday-service/2030-08-18/
LOCATION:Voices of Faith North\, 2500 Clean Water Ct\, Buford\, GA\, 30519\, United States
CATEGORIES:Sunday Service
ATTACH;FMTTYPE=image/png:https://vofn.org/wp-content/uploads/2024/03/Pastor.png
END:VEVENT
BEGIN:VEVENT
DTSTART;TZID=America/New_York:20300825T103000
DTEND;TZID=America/New_York:20300825T120000
DTSTAMP:20260425T094214
CREATED:20230225T224251Z
LAST-MODIFIED:20260311T195541Z
UID:10000717-1913884200-1913889600@vofn.org
SUMMARY:Voices of Faith North - Sunday Service
DESCRIPTION:Join us for a dynamic faith-based service\, at voices of faith north.
URL:https://vofn.org/event/voices-of-faith-north-sunday-service/2030-08-25/
LOCATION:Voices of Faith North\, 2500 Clean Water Ct\, Buford\, GA\, 30519\, United States
CATEGORIES:Sunday Service
ATTACH;FMTTYPE=image/png:https://vofn.org/wp-content/uploads/2024/03/Pastor.png
END:VEVENT
BEGIN:VEVENT
DTSTART;TZID=America/New_York:20300901T103000
DTEND;TZID=America/New_York:20300901T120000
DTSTAMP:20260425T094214
CREATED:20230225T224251Z
LAST-MODIFIED:20260311T195541Z
UID:10000718-1914489000-1914494400@vofn.org
SUMMARY:Voices of Faith North - Sunday Service
DESCRIPTION:Join us for a dynamic faith-based service\, at voices of faith north.
URL:https://vofn.org/event/voices-of-faith-north-sunday-service/2030-09-01/
LOCATION:Voices of Faith North\, 2500 Clean Water Ct\, Buford\, GA\, 30519\, United States
CATEGORIES:Sunday Service
ATTACH;FMTTYPE=image/png:https://vofn.org/wp-content/uploads/2024/03/Pastor.png
END:VEVENT
BEGIN:VEVENT
DTSTART;TZID=America/New_York:20300908T103000
DTEND;TZID=America/New_York:20300908T120000
DTSTAMP:20260425T094214
CREATED:20230225T224251Z
LAST-MODIFIED:20260311T195541Z
UID:10000719-1915093800-1915099200@vofn.org
SUMMARY:Voices of Faith North - Sunday Service
DESCRIPTION:Join us for a dynamic faith-based service\, at voices of faith north.
URL:https://vofn.org/event/voices-of-faith-north-sunday-service/2030-09-08/
LOCATION:Voices of Faith North\, 2500 Clean Water Ct\, Buford\, GA\, 30519\, United States
CATEGORIES:Sunday Service
ATTACH;FMTTYPE=image/png:https://vofn.org/wp-content/uploads/2024/03/Pastor.png
END:VEVENT
BEGIN:VEVENT
DTSTART;TZID=America/New_York:20300915T103000
DTEND;TZID=America/New_York:20300915T120000
DTSTAMP:20260425T094214
CREATED:20230225T224251Z
LAST-MODIFIED:20260311T195541Z
UID:10000720-1915698600-1915704000@vofn.org
SUMMARY:Voices of Faith North - Sunday Service
DESCRIPTION:Join us for a dynamic faith-based service\, at voices of faith north.
URL:https://vofn.org/event/voices-of-faith-north-sunday-service/2030-09-15/
LOCATION:Voices of Faith North\, 2500 Clean Water Ct\, Buford\, GA\, 30519\, United States
CATEGORIES:Sunday Service
ATTACH;FMTTYPE=image/png:https://vofn.org/wp-content/uploads/2024/03/Pastor.png
END:VEVENT
BEGIN:VEVENT
DTSTART;TZID=America/New_York:20300922T103000
DTEND;TZID=America/New_York:20300922T120000
DTSTAMP:20260425T094214
CREATED:20230225T224251Z
LAST-MODIFIED:20260311T195541Z
UID:10000721-1916303400-1916308800@vofn.org
SUMMARY:Voices of Faith North - Sunday Service
DESCRIPTION:Join us for a dynamic faith-based service\, at voices of faith north.
URL:https://vofn.org/event/voices-of-faith-north-sunday-service/2030-09-22/
LOCATION:Voices of Faith North\, 2500 Clean Water Ct\, Buford\, GA\, 30519\, United States
CATEGORIES:Sunday Service
ATTACH;FMTTYPE=image/png:https://vofn.org/wp-content/uploads/2024/03/Pastor.png
END:VEVENT
BEGIN:VEVENT
DTSTART;TZID=America/New_York:20300929T103000
DTEND;TZID=America/New_York:20300929T120000
DTSTAMP:20260425T094214
CREATED:20230225T224251Z
LAST-MODIFIED:20260311T195541Z
UID:10000722-1916908200-1916913600@vofn.org
SUMMARY:Voices of Faith North - Sunday Service
DESCRIPTION:Join us for a dynamic faith-based service\, at voices of faith north.
URL:https://vofn.org/event/voices-of-faith-north-sunday-service/2030-09-29/
LOCATION:Voices of Faith North\, 2500 Clean Water Ct\, Buford\, GA\, 30519\, United States
CATEGORIES:Sunday Service
ATTACH;FMTTYPE=image/png:https://vofn.org/wp-content/uploads/2024/03/Pastor.png
END:VEVENT
END:VCALENDAR