BEGIN:VCALENDAR
VERSION:2.0
PRODID:-//Voices of Faith North - ECPv6.15.20//NONSGML v1.0//EN
CALSCALE:GREGORIAN
METHOD:PUBLISH
X-ORIGINAL-URL:https://vofn.org
X-WR-CALDESC:Events for Voices of Faith North
REFRESH-INTERVAL;VALUE=DURATION:PT1H
X-Robots-Tag:noindex
X-PUBLISHED-TTL:PT1H
BEGIN:VTIMEZONE
TZID:America/New_York
BEGIN:DAYLIGHT
TZOFFSETFROM:-0500
TZOFFSETTO:-0400
TZNAME:EDT
DTSTART:20260308T070000
END:DAYLIGHT
BEGIN:STANDARD
TZOFFSETFROM:-0400
TZOFFSETTO:-0500
TZNAME:EST
DTSTART:20261101T060000
END:STANDARD
BEGIN:DAYLIGHT
TZOFFSETFROM:-0500
TZOFFSETTO:-0400
TZNAME:EDT
DTSTART:20270314T070000
END:DAYLIGHT
BEGIN:STANDARD
TZOFFSETFROM:-0400
TZOFFSETTO:-0500
TZNAME:EST
DTSTART:20271107T060000
END:STANDARD
BEGIN:DAYLIGHT
TZOFFSETFROM:-0500
TZOFFSETTO:-0400
TZNAME:EDT
DTSTART:20280312T070000
END:DAYLIGHT
BEGIN:STANDARD
TZOFFSETFROM:-0400
TZOFFSETTO:-0500
TZNAME:EST
DTSTART:20281105T060000
END:STANDARD
END:VTIMEZONE
BEGIN:VEVENT
DTSTART;TZID=America/New_York:20270615T190000
DTEND;TZID=America/New_York:20270615T193000
DTSTAMP:20260424T112118
CREATED:20240124T035043Z
LAST-MODIFIED:20250424T161429Z
UID:10000465-1813086000-1813087800@vofn.org
SUMMARY:Weekly Bible Study
DESCRIPTION:
URL:https://vofn.org/event/weekly-bible-study/2027-06-15/
LOCATION:Online Event\, GA\, United States
CATEGORIES:Bible Study
ATTACH;FMTTYPE=image/png:https://vofn.org/wp-content/uploads/2025/04/BibleStudy_v2.png
ORGANIZER;CN="Pastor Mark Duncan":MAILTO:pastorduncan@voicesfailth.org
END:VEVENT
BEGIN:VEVENT
DTSTART;TZID=America/New_York:20270620T103000
DTEND;TZID=America/New_York:20270620T120000
DTSTAMP:20260424T112118
CREATED:20230225T224251Z
LAST-MODIFIED:20260311T195541Z
UID:10000198-1813487400-1813492800@vofn.org
SUMMARY:Voices of Faith North - Sunday Service
DESCRIPTION:Join us for a dynamic faith-based service\, at voices of faith north.
URL:https://vofn.org/event/voices-of-faith-north-sunday-service/2027-06-20/
LOCATION:Voices of Faith North\, 2500 Clean Water Ct\, Buford\, GA\, 30519\, United States
CATEGORIES:Sunday Service
ATTACH;FMTTYPE=image/png:https://vofn.org/wp-content/uploads/2024/03/Pastor.png
END:VEVENT
BEGIN:VEVENT
DTSTART;TZID=America/New_York:20270622T190000
DTEND;TZID=America/New_York:20270622T193000
DTSTAMP:20260424T112118
CREATED:20240124T035043Z
LAST-MODIFIED:20250424T161429Z
UID:10000466-1813690800-1813692600@vofn.org
SUMMARY:Weekly Bible Study
DESCRIPTION:
URL:https://vofn.org/event/weekly-bible-study/2027-06-22/
LOCATION:Online Event\, GA\, United States
CATEGORIES:Bible Study
ATTACH;FMTTYPE=image/png:https://vofn.org/wp-content/uploads/2025/04/BibleStudy_v2.png
ORGANIZER;CN="Pastor Mark Duncan":MAILTO:pastorduncan@voicesfailth.org
END:VEVENT
BEGIN:VEVENT
DTSTART;TZID=America/New_York:20270627T103000
DTEND;TZID=America/New_York:20270627T120000
DTSTAMP:20260424T112118
CREATED:20230225T224251Z
LAST-MODIFIED:20260311T195541Z
UID:10000199-1814092200-1814097600@vofn.org
SUMMARY:Voices of Faith North - Sunday Service
DESCRIPTION:Join us for a dynamic faith-based service\, at voices of faith north.
URL:https://vofn.org/event/voices-of-faith-north-sunday-service/2027-06-27/
LOCATION:Voices of Faith North\, 2500 Clean Water Ct\, Buford\, GA\, 30519\, United States
CATEGORIES:Sunday Service
ATTACH;FMTTYPE=image/png:https://vofn.org/wp-content/uploads/2024/03/Pastor.png
END:VEVENT
BEGIN:VEVENT
DTSTART;TZID=America/New_York:20270629T190000
DTEND;TZID=America/New_York:20270629T193000
DTSTAMP:20260424T112118
CREATED:20240124T035043Z
LAST-MODIFIED:20250424T161429Z
UID:10000467-1814295600-1814297400@vofn.org
SUMMARY:Weekly Bible Study
DESCRIPTION:
URL:https://vofn.org/event/weekly-bible-study/2027-06-29/
LOCATION:Online Event\, GA\, United States
CATEGORIES:Bible Study
ATTACH;FMTTYPE=image/png:https://vofn.org/wp-content/uploads/2025/04/BibleStudy_v2.png
ORGANIZER;CN="Pastor Mark Duncan":MAILTO:pastorduncan@voicesfailth.org
END:VEVENT
BEGIN:VEVENT
DTSTART;TZID=America/New_York:20270704T103000
DTEND;TZID=America/New_York:20270704T120000
DTSTAMP:20260424T112118
CREATED:20230225T224251Z
LAST-MODIFIED:20260311T195541Z
UID:10000200-1814697000-1814702400@vofn.org
SUMMARY:Voices of Faith North - Sunday Service
DESCRIPTION:Join us for a dynamic faith-based service\, at voices of faith north.
URL:https://vofn.org/event/voices-of-faith-north-sunday-service/2027-07-04/
LOCATION:Voices of Faith North\, 2500 Clean Water Ct\, Buford\, GA\, 30519\, United States
CATEGORIES:Sunday Service
ATTACH;FMTTYPE=image/png:https://vofn.org/wp-content/uploads/2024/03/Pastor.png
END:VEVENT
BEGIN:VEVENT
DTSTART;TZID=America/New_York:20270706T190000
DTEND;TZID=America/New_York:20270706T193000
DTSTAMP:20260424T112118
CREATED:20240124T035043Z
LAST-MODIFIED:20250424T161429Z
UID:10000468-1814900400-1814902200@vofn.org
SUMMARY:Weekly Bible Study
DESCRIPTION:
URL:https://vofn.org/event/weekly-bible-study/2027-07-06/
LOCATION:Online Event\, GA\, United States
CATEGORIES:Bible Study
ATTACH;FMTTYPE=image/png:https://vofn.org/wp-content/uploads/2025/04/BibleStudy_v2.png
ORGANIZER;CN="Pastor Mark Duncan":MAILTO:pastorduncan@voicesfailth.org
END:VEVENT
BEGIN:VEVENT
DTSTART;TZID=America/New_York:20270711T103000
DTEND;TZID=America/New_York:20270711T120000
DTSTAMP:20260424T112118
CREATED:20230225T224251Z
LAST-MODIFIED:20260311T195541Z
UID:10000201-1815301800-1815307200@vofn.org
SUMMARY:Voices of Faith North - Sunday Service
DESCRIPTION:Join us for a dynamic faith-based service\, at voices of faith north.
URL:https://vofn.org/event/voices-of-faith-north-sunday-service/2027-07-11/
LOCATION:Voices of Faith North\, 2500 Clean Water Ct\, Buford\, GA\, 30519\, United States
CATEGORIES:Sunday Service
ATTACH;FMTTYPE=image/png:https://vofn.org/wp-content/uploads/2024/03/Pastor.png
END:VEVENT
BEGIN:VEVENT
DTSTART;TZID=America/New_York:20270713T190000
DTEND;TZID=America/New_York:20270713T193000
DTSTAMP:20260424T112118
CREATED:20240124T035043Z
LAST-MODIFIED:20250424T161429Z
UID:10000469-1815505200-1815507000@vofn.org
SUMMARY:Weekly Bible Study
DESCRIPTION:
URL:https://vofn.org/event/weekly-bible-study/2027-07-13/
LOCATION:Online Event\, GA\, United States
CATEGORIES:Bible Study
ATTACH;FMTTYPE=image/png:https://vofn.org/wp-content/uploads/2025/04/BibleStudy_v2.png
ORGANIZER;CN="Pastor Mark Duncan":MAILTO:pastorduncan@voicesfailth.org
END:VEVENT
BEGIN:VEVENT
DTSTART;TZID=America/New_York:20270718T103000
DTEND;TZID=America/New_York:20270718T120000
DTSTAMP:20260424T112118
CREATED:20230225T224251Z
LAST-MODIFIED:20260311T195541Z
UID:10000202-1815906600-1815912000@vofn.org
SUMMARY:Voices of Faith North - Sunday Service
DESCRIPTION:Join us for a dynamic faith-based service\, at voices of faith north.
URL:https://vofn.org/event/voices-of-faith-north-sunday-service/2027-07-18/
LOCATION:Voices of Faith North\, 2500 Clean Water Ct\, Buford\, GA\, 30519\, United States
CATEGORIES:Sunday Service
ATTACH;FMTTYPE=image/png:https://vofn.org/wp-content/uploads/2024/03/Pastor.png
END:VEVENT
BEGIN:VEVENT
DTSTART;TZID=America/New_York:20270720T190000
DTEND;TZID=America/New_York:20270720T193000
DTSTAMP:20260424T112118
CREATED:20240124T035043Z
LAST-MODIFIED:20250424T161429Z
UID:10000470-1816110000-1816111800@vofn.org
SUMMARY:Weekly Bible Study
DESCRIPTION:
URL:https://vofn.org/event/weekly-bible-study/2027-07-20/
LOCATION:Online Event\, GA\, United States
CATEGORIES:Bible Study
ATTACH;FMTTYPE=image/png:https://vofn.org/wp-content/uploads/2025/04/BibleStudy_v2.png
ORGANIZER;CN="Pastor Mark Duncan":MAILTO:pastorduncan@voicesfailth.org
END:VEVENT
BEGIN:VEVENT
DTSTART;TZID=America/New_York:20270725T103000
DTEND;TZID=America/New_York:20270725T120000
DTSTAMP:20260424T112118
CREATED:20230225T224251Z
LAST-MODIFIED:20260311T195541Z
UID:10000203-1816511400-1816516800@vofn.org
SUMMARY:Voices of Faith North - Sunday Service
DESCRIPTION:Join us for a dynamic faith-based service\, at voices of faith north.
URL:https://vofn.org/event/voices-of-faith-north-sunday-service/2027-07-25/
LOCATION:Voices of Faith North\, 2500 Clean Water Ct\, Buford\, GA\, 30519\, United States
CATEGORIES:Sunday Service
ATTACH;FMTTYPE=image/png:https://vofn.org/wp-content/uploads/2024/03/Pastor.png
END:VEVENT
BEGIN:VEVENT
DTSTART;TZID=America/New_York:20270727T190000
DTEND;TZID=America/New_York:20270727T193000
DTSTAMP:20260424T112118
CREATED:20240124T035043Z
LAST-MODIFIED:20250424T161429Z
UID:10000471-1816714800-1816716600@vofn.org
SUMMARY:Weekly Bible Study
DESCRIPTION:
URL:https://vofn.org/event/weekly-bible-study/2027-07-27/
LOCATION:Online Event\, GA\, United States
CATEGORIES:Bible Study
ATTACH;FMTTYPE=image/png:https://vofn.org/wp-content/uploads/2025/04/BibleStudy_v2.png
ORGANIZER;CN="Pastor Mark Duncan":MAILTO:pastorduncan@voicesfailth.org
END:VEVENT
BEGIN:VEVENT
DTSTART;TZID=America/New_York:20270801T103000
DTEND;TZID=America/New_York:20270801T120000
DTSTAMP:20260424T112118
CREATED:20230225T224251Z
LAST-MODIFIED:20260311T195541Z
UID:10000204-1817116200-1817121600@vofn.org
SUMMARY:Voices of Faith North - Sunday Service
DESCRIPTION:Join us for a dynamic faith-based service\, at voices of faith north.
URL:https://vofn.org/event/voices-of-faith-north-sunday-service/2027-08-01/
LOCATION:Voices of Faith North\, 2500 Clean Water Ct\, Buford\, GA\, 30519\, United States
CATEGORIES:Sunday Service
ATTACH;FMTTYPE=image/png:https://vofn.org/wp-content/uploads/2024/03/Pastor.png
END:VEVENT
BEGIN:VEVENT
DTSTART;TZID=America/New_York:20270803T190000
DTEND;TZID=America/New_York:20270803T193000
DTSTAMP:20260424T112118
CREATED:20240124T035043Z
LAST-MODIFIED:20250424T161429Z
UID:10000472-1817319600-1817321400@vofn.org
SUMMARY:Weekly Bible Study
DESCRIPTION:
URL:https://vofn.org/event/weekly-bible-study/2027-08-03/
LOCATION:Online Event\, GA\, United States
CATEGORIES:Bible Study
ATTACH;FMTTYPE=image/png:https://vofn.org/wp-content/uploads/2025/04/BibleStudy_v2.png
ORGANIZER;CN="Pastor Mark Duncan":MAILTO:pastorduncan@voicesfailth.org
END:VEVENT
BEGIN:VEVENT
DTSTART;TZID=America/New_York:20270808T103000
DTEND;TZID=America/New_York:20270808T120000
DTSTAMP:20260424T112118
CREATED:20230225T224251Z
LAST-MODIFIED:20260311T195541Z
UID:10000205-1817721000-1817726400@vofn.org
SUMMARY:Voices of Faith North - Sunday Service
DESCRIPTION:Join us for a dynamic faith-based service\, at voices of faith north.
URL:https://vofn.org/event/voices-of-faith-north-sunday-service/2027-08-08/
LOCATION:Voices of Faith North\, 2500 Clean Water Ct\, Buford\, GA\, 30519\, United States
CATEGORIES:Sunday Service
ATTACH;FMTTYPE=image/png:https://vofn.org/wp-content/uploads/2024/03/Pastor.png
END:VEVENT
BEGIN:VEVENT
DTSTART;TZID=America/New_York:20270810T190000
DTEND;TZID=America/New_York:20270810T193000
DTSTAMP:20260424T112118
CREATED:20240124T035043Z
LAST-MODIFIED:20250424T161429Z
UID:10000473-1817924400-1817926200@vofn.org
SUMMARY:Weekly Bible Study
DESCRIPTION:
URL:https://vofn.org/event/weekly-bible-study/2027-08-10/
LOCATION:Online Event\, GA\, United States
CATEGORIES:Bible Study
ATTACH;FMTTYPE=image/png:https://vofn.org/wp-content/uploads/2025/04/BibleStudy_v2.png
ORGANIZER;CN="Pastor Mark Duncan":MAILTO:pastorduncan@voicesfailth.org
END:VEVENT
BEGIN:VEVENT
DTSTART;TZID=America/New_York:20270815T103000
DTEND;TZID=America/New_York:20270815T120000
DTSTAMP:20260424T112118
CREATED:20230225T224251Z
LAST-MODIFIED:20260311T195541Z
UID:10000206-1818325800-1818331200@vofn.org
SUMMARY:Voices of Faith North - Sunday Service
DESCRIPTION:Join us for a dynamic faith-based service\, at voices of faith north.
URL:https://vofn.org/event/voices-of-faith-north-sunday-service/2027-08-15/
LOCATION:Voices of Faith North\, 2500 Clean Water Ct\, Buford\, GA\, 30519\, United States
CATEGORIES:Sunday Service
ATTACH;FMTTYPE=image/png:https://vofn.org/wp-content/uploads/2024/03/Pastor.png
END:VEVENT
BEGIN:VEVENT
DTSTART;TZID=America/New_York:20270817T190000
DTEND;TZID=America/New_York:20270817T193000
DTSTAMP:20260424T112118
CREATED:20240124T035043Z
LAST-MODIFIED:20250424T161429Z
UID:10000474-1818529200-1818531000@vofn.org
SUMMARY:Weekly Bible Study
DESCRIPTION:
URL:https://vofn.org/event/weekly-bible-study/2027-08-17/
LOCATION:Online Event\, GA\, United States
CATEGORIES:Bible Study
ATTACH;FMTTYPE=image/png:https://vofn.org/wp-content/uploads/2025/04/BibleStudy_v2.png
ORGANIZER;CN="Pastor Mark Duncan":MAILTO:pastorduncan@voicesfailth.org
END:VEVENT
BEGIN:VEVENT
DTSTART;TZID=America/New_York:20270822T103000
DTEND;TZID=America/New_York:20270822T120000
DTSTAMP:20260424T112118
CREATED:20230225T224251Z
LAST-MODIFIED:20260311T195541Z
UID:10000207-1818930600-1818936000@vofn.org
SUMMARY:Voices of Faith North - Sunday Service
DESCRIPTION:Join us for a dynamic faith-based service\, at voices of faith north.
URL:https://vofn.org/event/voices-of-faith-north-sunday-service/2027-08-22/
LOCATION:Voices of Faith North\, 2500 Clean Water Ct\, Buford\, GA\, 30519\, United States
CATEGORIES:Sunday Service
ATTACH;FMTTYPE=image/png:https://vofn.org/wp-content/uploads/2024/03/Pastor.png
END:VEVENT
BEGIN:VEVENT
DTSTART;TZID=America/New_York:20270824T190000
DTEND;TZID=America/New_York:20270824T193000
DTSTAMP:20260424T112118
CREATED:20240124T035043Z
LAST-MODIFIED:20250424T161429Z
UID:10000475-1819134000-1819135800@vofn.org
SUMMARY:Weekly Bible Study
DESCRIPTION:
URL:https://vofn.org/event/weekly-bible-study/2027-08-24/
LOCATION:Online Event\, GA\, United States
CATEGORIES:Bible Study
ATTACH;FMTTYPE=image/png:https://vofn.org/wp-content/uploads/2025/04/BibleStudy_v2.png
ORGANIZER;CN="Pastor Mark Duncan":MAILTO:pastorduncan@voicesfailth.org
END:VEVENT
BEGIN:VEVENT
DTSTART;TZID=America/New_York:20270829T103000
DTEND;TZID=America/New_York:20270829T120000
DTSTAMP:20260424T112118
CREATED:20230225T224251Z
LAST-MODIFIED:20260311T195541Z
UID:10000208-1819535400-1819540800@vofn.org
SUMMARY:Voices of Faith North - Sunday Service
DESCRIPTION:Join us for a dynamic faith-based service\, at voices of faith north.
URL:https://vofn.org/event/voices-of-faith-north-sunday-service/2027-08-29/
LOCATION:Voices of Faith North\, 2500 Clean Water Ct\, Buford\, GA\, 30519\, United States
CATEGORIES:Sunday Service
ATTACH;FMTTYPE=image/png:https://vofn.org/wp-content/uploads/2024/03/Pastor.png
END:VEVENT
BEGIN:VEVENT
DTSTART;TZID=America/New_York:20270831T190000
DTEND;TZID=America/New_York:20270831T193000
DTSTAMP:20260424T112118
CREATED:20240124T035043Z
LAST-MODIFIED:20250424T161429Z
UID:10000476-1819738800-1819740600@vofn.org
SUMMARY:Weekly Bible Study
DESCRIPTION:
URL:https://vofn.org/event/weekly-bible-study/2027-08-31/
LOCATION:Online Event\, GA\, United States
CATEGORIES:Bible Study
ATTACH;FMTTYPE=image/png:https://vofn.org/wp-content/uploads/2025/04/BibleStudy_v2.png
ORGANIZER;CN="Pastor Mark Duncan":MAILTO:pastorduncan@voicesfailth.org
END:VEVENT
BEGIN:VEVENT
DTSTART;TZID=America/New_York:20270905T103000
DTEND;TZID=America/New_York:20270905T120000
DTSTAMP:20260424T112118
CREATED:20230225T224251Z
LAST-MODIFIED:20260311T195541Z
UID:10000209-1820140200-1820145600@vofn.org
SUMMARY:Voices of Faith North - Sunday Service
DESCRIPTION:Join us for a dynamic faith-based service\, at voices of faith north.
URL:https://vofn.org/event/voices-of-faith-north-sunday-service/2027-09-05/
LOCATION:Voices of Faith North\, 2500 Clean Water Ct\, Buford\, GA\, 30519\, United States
CATEGORIES:Sunday Service
ATTACH;FMTTYPE=image/png:https://vofn.org/wp-content/uploads/2024/03/Pastor.png
END:VEVENT
BEGIN:VEVENT
DTSTART;TZID=America/New_York:20270907T190000
DTEND;TZID=America/New_York:20270907T193000
DTSTAMP:20260424T112118
CREATED:20240124T035043Z
LAST-MODIFIED:20250424T161429Z
UID:10000477-1820343600-1820345400@vofn.org
SUMMARY:Weekly Bible Study
DESCRIPTION:
URL:https://vofn.org/event/weekly-bible-study/2027-09-07/
LOCATION:Online Event\, GA\, United States
CATEGORIES:Bible Study
ATTACH;FMTTYPE=image/png:https://vofn.org/wp-content/uploads/2025/04/BibleStudy_v2.png
ORGANIZER;CN="Pastor Mark Duncan":MAILTO:pastorduncan@voicesfailth.org
END:VEVENT
BEGIN:VEVENT
DTSTART;TZID=America/New_York:20270912T103000
DTEND;TZID=America/New_York:20270912T120000
DTSTAMP:20260424T112118
CREATED:20230225T224251Z
LAST-MODIFIED:20260311T195541Z
UID:10000210-1820745000-1820750400@vofn.org
SUMMARY:Voices of Faith North - Sunday Service
DESCRIPTION:Join us for a dynamic faith-based service\, at voices of faith north.
URL:https://vofn.org/event/voices-of-faith-north-sunday-service/2027-09-12/
LOCATION:Voices of Faith North\, 2500 Clean Water Ct\, Buford\, GA\, 30519\, United States
CATEGORIES:Sunday Service
ATTACH;FMTTYPE=image/png:https://vofn.org/wp-content/uploads/2024/03/Pastor.png
END:VEVENT
BEGIN:VEVENT
DTSTART;TZID=America/New_York:20270914T190000
DTEND;TZID=America/New_York:20270914T193000
DTSTAMP:20260424T112118
CREATED:20240124T035043Z
LAST-MODIFIED:20250424T161429Z
UID:10000478-1820948400-1820950200@vofn.org
SUMMARY:Weekly Bible Study
DESCRIPTION:
URL:https://vofn.org/event/weekly-bible-study/2027-09-14/
LOCATION:Online Event\, GA\, United States
CATEGORIES:Bible Study
ATTACH;FMTTYPE=image/png:https://vofn.org/wp-content/uploads/2025/04/BibleStudy_v2.png
ORGANIZER;CN="Pastor Mark Duncan":MAILTO:pastorduncan@voicesfailth.org
END:VEVENT
BEGIN:VEVENT
DTSTART;TZID=America/New_York:20270919T103000
DTEND;TZID=America/New_York:20270919T120000
DTSTAMP:20260424T112118
CREATED:20230225T224251Z
LAST-MODIFIED:20260311T195541Z
UID:10000211-1821349800-1821355200@vofn.org
SUMMARY:Voices of Faith North - Sunday Service
DESCRIPTION:Join us for a dynamic faith-based service\, at voices of faith north.
URL:https://vofn.org/event/voices-of-faith-north-sunday-service/2027-09-19/
LOCATION:Voices of Faith North\, 2500 Clean Water Ct\, Buford\, GA\, 30519\, United States
CATEGORIES:Sunday Service
ATTACH;FMTTYPE=image/png:https://vofn.org/wp-content/uploads/2024/03/Pastor.png
END:VEVENT
BEGIN:VEVENT
DTSTART;TZID=America/New_York:20270921T190000
DTEND;TZID=America/New_York:20270921T193000
DTSTAMP:20260424T112118
CREATED:20240124T035043Z
LAST-MODIFIED:20250424T161429Z
UID:10000479-1821553200-1821555000@vofn.org
SUMMARY:Weekly Bible Study
DESCRIPTION:
URL:https://vofn.org/event/weekly-bible-study/2027-09-21/
LOCATION:Online Event\, GA\, United States
CATEGORIES:Bible Study
ATTACH;FMTTYPE=image/png:https://vofn.org/wp-content/uploads/2025/04/BibleStudy_v2.png
ORGANIZER;CN="Pastor Mark Duncan":MAILTO:pastorduncan@voicesfailth.org
END:VEVENT
BEGIN:VEVENT
DTSTART;TZID=America/New_York:20270926T103000
DTEND;TZID=America/New_York:20270926T120000
DTSTAMP:20260424T112118
CREATED:20230225T224251Z
LAST-MODIFIED:20260311T195541Z
UID:10000212-1821954600-1821960000@vofn.org
SUMMARY:Voices of Faith North - Sunday Service
DESCRIPTION:Join us for a dynamic faith-based service\, at voices of faith north.
URL:https://vofn.org/event/voices-of-faith-north-sunday-service/2027-09-26/
LOCATION:Voices of Faith North\, 2500 Clean Water Ct\, Buford\, GA\, 30519\, United States
CATEGORIES:Sunday Service
ATTACH;FMTTYPE=image/png:https://vofn.org/wp-content/uploads/2024/03/Pastor.png
END:VEVENT
END:VCALENDAR