BEGIN:VCALENDAR
VERSION:2.0
PRODID:-//Voices of Faith North - ECPv6.15.20//NONSGML v1.0//EN
CALSCALE:GREGORIAN
METHOD:PUBLISH
X-ORIGINAL-URL:https://vofn.org
X-WR-CALDESC:Events for Voices of Faith North
REFRESH-INTERVAL;VALUE=DURATION:PT1H
X-Robots-Tag:noindex
X-PUBLISHED-TTL:PT1H
BEGIN:VTIMEZONE
TZID:America/New_York
BEGIN:DAYLIGHT
TZOFFSETFROM:-0500
TZOFFSETTO:-0400
TZNAME:EDT
DTSTART:20240310T070000
END:DAYLIGHT
BEGIN:STANDARD
TZOFFSETFROM:-0400
TZOFFSETTO:-0500
TZNAME:EST
DTSTART:20241103T060000
END:STANDARD
BEGIN:DAYLIGHT
TZOFFSETFROM:-0500
TZOFFSETTO:-0400
TZNAME:EDT
DTSTART:20250309T070000
END:DAYLIGHT
BEGIN:STANDARD
TZOFFSETFROM:-0400
TZOFFSETTO:-0500
TZNAME:EST
DTSTART:20251102T060000
END:STANDARD
BEGIN:DAYLIGHT
TZOFFSETFROM:-0500
TZOFFSETTO:-0400
TZNAME:EDT
DTSTART:20260308T070000
END:DAYLIGHT
BEGIN:STANDARD
TZOFFSETFROM:-0400
TZOFFSETTO:-0500
TZNAME:EST
DTSTART:20261101T060000
END:STANDARD
END:VTIMEZONE
BEGIN:VEVENT
DTSTART;TZID=America/New_York:20251125T190000
DTEND;TZID=America/New_York:20251125T193000
DTSTAMP:20260423T175528
CREATED:20240124T035043Z
LAST-MODIFIED:20250424T161429Z
UID:10000384-1764097200-1764099000@vofn.org
SUMMARY:Weekly Bible Study
DESCRIPTION:
URL:https://vofn.org/event/weekly-bible-study/2025-11-25/
LOCATION:Online Event\, GA\, United States
CATEGORIES:Bible Study
ATTACH;FMTTYPE=image/png:https://vofn.org/wp-content/uploads/2025/04/BibleStudy_v2.png
ORGANIZER;CN="Pastor Mark Duncan":MAILTO:pastorduncan@voicesfailth.org
END:VEVENT
BEGIN:VEVENT
DTSTART;TZID=America/New_York:20251123T103000
DTEND;TZID=America/New_York:20251123T120000
DTSTAMP:20260423T175528
CREATED:20230225T224251Z
LAST-MODIFIED:20260311T195541Z
UID:10000116-1763893800-1763899200@vofn.org
SUMMARY:Voices of Faith North - Sunday Service
DESCRIPTION:Join us for a dynamic faith-based service\, at voices of faith north.
URL:https://vofn.org/event/voices-of-faith-north-sunday-service/2025-11-23/
LOCATION:Voices of Faith North\, 2500 Clean Water Ct\, Buford\, GA\, 30519\, United States
CATEGORIES:Sunday Service
ATTACH;FMTTYPE=image/png:https://vofn.org/wp-content/uploads/2024/03/Pastor.png
END:VEVENT
BEGIN:VEVENT
DTSTART;TZID=America/New_York:20251122T100000
DTEND;TZID=America/New_York:20251122T120000
DTSTAMP:20260423T175528
CREATED:20251005T125108Z
LAST-MODIFIED:20251005T125108Z
UID:10000697-1763805600-1763812800@vofn.org
SUMMARY:Sisters Painting and Praying
DESCRIPTION:Come on out to this wonderful fellowship with the Voices of Faith North women! \nDeadline for signup is October 26\, 2025
URL:https://vofn.org/event/paint/
LOCATION:Voices of Faith North\, 2500 Clean Water Ct\, Buford\, GA\, 30519\, United States
ATTACH;FMTTYPE=image/png:https://vofn.org/wp-content/uploads/2025/10/PaintClassNov22.png
END:VEVENT
BEGIN:VEVENT
DTSTART;TZID=America/New_York:20251118T190000
DTEND;TZID=America/New_York:20251118T193000
DTSTAMP:20260423T175528
CREATED:20240124T035043Z
LAST-MODIFIED:20250424T161429Z
UID:10000383-1763492400-1763494200@vofn.org
SUMMARY:Weekly Bible Study
DESCRIPTION:
URL:https://vofn.org/event/weekly-bible-study/2025-11-18/
LOCATION:Online Event\, GA\, United States
CATEGORIES:Bible Study
ATTACH;FMTTYPE=image/png:https://vofn.org/wp-content/uploads/2025/04/BibleStudy_v2.png
ORGANIZER;CN="Pastor Mark Duncan":MAILTO:pastorduncan@voicesfailth.org
END:VEVENT
BEGIN:VEVENT
DTSTART;TZID=America/New_York:20251116T103000
DTEND;TZID=America/New_York:20251116T120000
DTSTAMP:20260423T175528
CREATED:20230225T224251Z
LAST-MODIFIED:20260311T195541Z
UID:10000115-1763289000-1763294400@vofn.org
SUMMARY:Voices of Faith North - Sunday Service
DESCRIPTION:Join us for a dynamic faith-based service\, at voices of faith north.
URL:https://vofn.org/event/voices-of-faith-north-sunday-service/2025-11-16/
LOCATION:Voices of Faith North\, 2500 Clean Water Ct\, Buford\, GA\, 30519\, United States
CATEGORIES:Sunday Service
ATTACH;FMTTYPE=image/png:https://vofn.org/wp-content/uploads/2024/03/Pastor.png
END:VEVENT
BEGIN:VEVENT
DTSTART;TZID=America/New_York:20251111T190000
DTEND;TZID=America/New_York:20251111T193000
DTSTAMP:20260423T175528
CREATED:20240124T035043Z
LAST-MODIFIED:20250424T161429Z
UID:10000382-1762887600-1762889400@vofn.org
SUMMARY:Weekly Bible Study
DESCRIPTION:
URL:https://vofn.org/event/weekly-bible-study/2025-11-11/
LOCATION:Online Event\, GA\, United States
CATEGORIES:Bible Study
ATTACH;FMTTYPE=image/png:https://vofn.org/wp-content/uploads/2025/04/BibleStudy_v2.png
ORGANIZER;CN="Pastor Mark Duncan":MAILTO:pastorduncan@voicesfailth.org
END:VEVENT
BEGIN:VEVENT
DTSTART;TZID=America/New_York:20251109T103000
DTEND;TZID=America/New_York:20251109T120000
DTSTAMP:20260423T175528
CREATED:20230225T224251Z
LAST-MODIFIED:20260311T195541Z
UID:10000114-1762684200-1762689600@vofn.org
SUMMARY:Voices of Faith North - Sunday Service
DESCRIPTION:Join us for a dynamic faith-based service\, at voices of faith north.
URL:https://vofn.org/event/voices-of-faith-north-sunday-service/2025-11-09/
LOCATION:Voices of Faith North\, 2500 Clean Water Ct\, Buford\, GA\, 30519\, United States
CATEGORIES:Sunday Service
ATTACH;FMTTYPE=image/png:https://vofn.org/wp-content/uploads/2024/03/Pastor.png
END:VEVENT
BEGIN:VEVENT
DTSTART;TZID=America/New_York:20251108T090000
DTEND;TZID=America/New_York:20251108T110000
DTSTAMP:20260423T175528
CREATED:20250424T163252Z
LAST-MODIFIED:20250723T232513Z
UID:10000676-1762592400-1762599600@vofn.org
SUMMARY:Discipleship - The Disciple's Personality
DESCRIPTION:
URL:https://vofn.org/event/discipleship-the-disciples-personality/2025-11-08/
LOCATION:Voices of Faith North\, 2500 Clean Water Ct\, Buford\, GA\, 30519\, United States
ATTACH;FMTTYPE=image/png:https://vofn.org/wp-content/uploads/2025/04/Discipleship_Personality.png
END:VEVENT
BEGIN:VEVENT
DTSTART;TZID=America/New_York:20251104T190000
DTEND;TZID=America/New_York:20251104T193000
DTSTAMP:20260423T175528
CREATED:20240124T035043Z
LAST-MODIFIED:20250424T161429Z
UID:10000381-1762282800-1762284600@vofn.org
SUMMARY:Weekly Bible Study
DESCRIPTION:
URL:https://vofn.org/event/weekly-bible-study/2025-11-04/
LOCATION:Online Event\, GA\, United States
CATEGORIES:Bible Study
ATTACH;FMTTYPE=image/png:https://vofn.org/wp-content/uploads/2025/04/BibleStudy_v2.png
ORGANIZER;CN="Pastor Mark Duncan":MAILTO:pastorduncan@voicesfailth.org
END:VEVENT
BEGIN:VEVENT
DTSTART;TZID=America/New_York:20251102T103000
DTEND;TZID=America/New_York:20251102T120000
DTSTAMP:20260423T175528
CREATED:20230225T224251Z
LAST-MODIFIED:20260311T195541Z
UID:10000113-1762079400-1762084800@vofn.org
SUMMARY:Voices of Faith North - Sunday Service
DESCRIPTION:Join us for a dynamic faith-based service\, at voices of faith north.
URL:https://vofn.org/event/voices-of-faith-north-sunday-service/2025-11-02/
LOCATION:Voices of Faith North\, 2500 Clean Water Ct\, Buford\, GA\, 30519\, United States
CATEGORIES:Sunday Service
ATTACH;FMTTYPE=image/png:https://vofn.org/wp-content/uploads/2024/03/Pastor.png
END:VEVENT
BEGIN:VEVENT
DTSTART;TZID=America/New_York:20251101T090000
DTEND;TZID=America/New_York:20251101T110000
DTSTAMP:20260423T175528
CREATED:20250424T163252Z
LAST-MODIFIED:20250723T232513Z
UID:10000675-1761987600-1761994800@vofn.org
SUMMARY:Discipleship - The Disciple's Personality
DESCRIPTION:
URL:https://vofn.org/event/discipleship-the-disciples-personality/2025-11-01/
LOCATION:Voices of Faith North\, 2500 Clean Water Ct\, Buford\, GA\, 30519\, United States
ATTACH;FMTTYPE=image/png:https://vofn.org/wp-content/uploads/2025/04/Discipleship_Personality.png
END:VEVENT
BEGIN:VEVENT
DTSTART;TZID=America/New_York:20251028T190000
DTEND;TZID=America/New_York:20251028T193000
DTSTAMP:20260423T175528
CREATED:20240124T035043Z
LAST-MODIFIED:20250424T161429Z
UID:10000380-1761678000-1761679800@vofn.org
SUMMARY:Weekly Bible Study
DESCRIPTION:
URL:https://vofn.org/event/weekly-bible-study/2025-10-28/
LOCATION:Online Event\, GA\, United States
CATEGORIES:Bible Study
ATTACH;FMTTYPE=image/png:https://vofn.org/wp-content/uploads/2025/04/BibleStudy_v2.png
ORGANIZER;CN="Pastor Mark Duncan":MAILTO:pastorduncan@voicesfailth.org
END:VEVENT
BEGIN:VEVENT
DTSTART;TZID=America/New_York:20251026T103000
DTEND;TZID=America/New_York:20251026T120000
DTSTAMP:20260423T175528
CREATED:20230225T224251Z
LAST-MODIFIED:20260311T195541Z
UID:10000112-1761474600-1761480000@vofn.org
SUMMARY:Voices of Faith North - Sunday Service
DESCRIPTION:Join us for a dynamic faith-based service\, at voices of faith north.
URL:https://vofn.org/event/voices-of-faith-north-sunday-service/2025-10-26/
LOCATION:Voices of Faith North\, 2500 Clean Water Ct\, Buford\, GA\, 30519\, United States
CATEGORIES:Sunday Service
ATTACH;FMTTYPE=image/png:https://vofn.org/wp-content/uploads/2024/03/Pastor.png
END:VEVENT
BEGIN:VEVENT
DTSTART;TZID=America/New_York:20251025T090000
DTEND;TZID=America/New_York:20251025T110000
DTSTAMP:20260423T175528
CREATED:20250424T163252Z
LAST-MODIFIED:20250723T232513Z
UID:10000674-1761382800-1761390000@vofn.org
SUMMARY:Discipleship - The Disciple's Personality
DESCRIPTION:
URL:https://vofn.org/event/discipleship-the-disciples-personality/2025-10-25/
LOCATION:Voices of Faith North\, 2500 Clean Water Ct\, Buford\, GA\, 30519\, United States
ATTACH;FMTTYPE=image/png:https://vofn.org/wp-content/uploads/2025/04/Discipleship_Personality.png
END:VEVENT
BEGIN:VEVENT
DTSTART;TZID=America/New_York:20251021T190000
DTEND;TZID=America/New_York:20251021T193000
DTSTAMP:20260423T175528
CREATED:20240124T035043Z
LAST-MODIFIED:20250424T161429Z
UID:10000379-1761073200-1761075000@vofn.org
SUMMARY:Weekly Bible Study
DESCRIPTION:
URL:https://vofn.org/event/weekly-bible-study/2025-10-21/
LOCATION:Online Event\, GA\, United States
CATEGORIES:Bible Study
ATTACH;FMTTYPE=image/png:https://vofn.org/wp-content/uploads/2025/04/BibleStudy_v2.png
ORGANIZER;CN="Pastor Mark Duncan":MAILTO:pastorduncan@voicesfailth.org
END:VEVENT
BEGIN:VEVENT
DTSTART;TZID=America/New_York:20251019T103000
DTEND;TZID=America/New_York:20251019T120000
DTSTAMP:20260423T175528
CREATED:20230225T224251Z
LAST-MODIFIED:20260311T195541Z
UID:10000111-1760869800-1760875200@vofn.org
SUMMARY:Voices of Faith North - Sunday Service
DESCRIPTION:Join us for a dynamic faith-based service\, at voices of faith north.
URL:https://vofn.org/event/voices-of-faith-north-sunday-service/2025-10-19/
LOCATION:Voices of Faith North\, 2500 Clean Water Ct\, Buford\, GA\, 30519\, United States
CATEGORIES:Sunday Service
ATTACH;FMTTYPE=image/png:https://vofn.org/wp-content/uploads/2024/03/Pastor.png
END:VEVENT
BEGIN:VEVENT
DTSTART;TZID=America/New_York:20251018T090000
DTEND;TZID=America/New_York:20251018T110000
DTSTAMP:20260423T175528
CREATED:20250424T163252Z
LAST-MODIFIED:20250723T232513Z
UID:10000673-1760778000-1760785200@vofn.org
SUMMARY:Discipleship - The Disciple's Personality
DESCRIPTION:
URL:https://vofn.org/event/discipleship-the-disciples-personality/2025-10-18/
LOCATION:Voices of Faith North\, 2500 Clean Water Ct\, Buford\, GA\, 30519\, United States
ATTACH;FMTTYPE=image/png:https://vofn.org/wp-content/uploads/2025/04/Discipleship_Personality.png
END:VEVENT
BEGIN:VEVENT
DTSTART;TZID=America/New_York:20251014T190000
DTEND;TZID=America/New_York:20251014T193000
DTSTAMP:20260423T175528
CREATED:20240124T035043Z
LAST-MODIFIED:20250424T161429Z
UID:10000378-1760468400-1760470200@vofn.org
SUMMARY:Weekly Bible Study
DESCRIPTION:
URL:https://vofn.org/event/weekly-bible-study/2025-10-14/
LOCATION:Online Event\, GA\, United States
CATEGORIES:Bible Study
ATTACH;FMTTYPE=image/png:https://vofn.org/wp-content/uploads/2025/04/BibleStudy_v2.png
ORGANIZER;CN="Pastor Mark Duncan":MAILTO:pastorduncan@voicesfailth.org
END:VEVENT
BEGIN:VEVENT
DTSTART;TZID=America/New_York:20251012T103000
DTEND;TZID=America/New_York:20251012T120000
DTSTAMP:20260423T175528
CREATED:20230225T224251Z
LAST-MODIFIED:20260311T195541Z
UID:10000110-1760265000-1760270400@vofn.org
SUMMARY:Voices of Faith North - Sunday Service
DESCRIPTION:Join us for a dynamic faith-based service\, at voices of faith north.
URL:https://vofn.org/event/voices-of-faith-north-sunday-service/2025-10-12/
LOCATION:Voices of Faith North\, 2500 Clean Water Ct\, Buford\, GA\, 30519\, United States
CATEGORIES:Sunday Service
ATTACH;FMTTYPE=image/png:https://vofn.org/wp-content/uploads/2024/03/Pastor.png
END:VEVENT
BEGIN:VEVENT
DTSTART;TZID=America/New_York:20251011T090000
DTEND;TZID=America/New_York:20251011T110000
DTSTAMP:20260423T175528
CREATED:20250424T163252Z
LAST-MODIFIED:20250723T232513Z
UID:10000672-1760173200-1760180400@vofn.org
SUMMARY:Discipleship - The Disciple's Personality
DESCRIPTION:
URL:https://vofn.org/event/discipleship-the-disciples-personality/2025-10-11/
LOCATION:Voices of Faith North\, 2500 Clean Water Ct\, Buford\, GA\, 30519\, United States
ATTACH;FMTTYPE=image/png:https://vofn.org/wp-content/uploads/2025/04/Discipleship_Personality.png
END:VEVENT
BEGIN:VEVENT
DTSTART;TZID=America/New_York:20251007T190000
DTEND;TZID=America/New_York:20251007T193000
DTSTAMP:20260423T175528
CREATED:20240124T035043Z
LAST-MODIFIED:20250424T161429Z
UID:10000377-1759863600-1759865400@vofn.org
SUMMARY:Weekly Bible Study
DESCRIPTION:
URL:https://vofn.org/event/weekly-bible-study/2025-10-07/
LOCATION:Online Event\, GA\, United States
CATEGORIES:Bible Study
ATTACH;FMTTYPE=image/png:https://vofn.org/wp-content/uploads/2025/04/BibleStudy_v2.png
ORGANIZER;CN="Pastor Mark Duncan":MAILTO:pastorduncan@voicesfailth.org
END:VEVENT
BEGIN:VEVENT
DTSTART;TZID=America/New_York:20251005T120000
DTEND;TZID=America/New_York:20251005T143000
DTSTAMP:20260423T175528
CREATED:20250921T150412Z
LAST-MODIFIED:20250928T144142Z
UID:10000696-1759665600-1759674600@vofn.org
SUMMARY:Church Meeting -
DESCRIPTION:
URL:https://vofn.org/event/church-meeting/
LOCATION:Voices of Faith North\, 2500 Clean Water Ct\, Buford\, GA\, 30519\, United States
ATTACH;FMTTYPE=image/jpeg:https://vofn.org/wp-content/uploads/2025/01/religion-3727465_1920.jpg
END:VEVENT
BEGIN:VEVENT
DTSTART;TZID=America/New_York:20251005T103000
DTEND;TZID=America/New_York:20251005T120000
DTSTAMP:20260423T175528
CREATED:20230225T224251Z
LAST-MODIFIED:20260311T195541Z
UID:10000109-1759660200-1759665600@vofn.org
SUMMARY:Voices of Faith North - Sunday Service
DESCRIPTION:Join us for a dynamic faith-based service\, at voices of faith north.
URL:https://vofn.org/event/voices-of-faith-north-sunday-service/2025-10-05/
LOCATION:Voices of Faith North\, 2500 Clean Water Ct\, Buford\, GA\, 30519\, United States
CATEGORIES:Sunday Service
ATTACH;FMTTYPE=image/png:https://vofn.org/wp-content/uploads/2024/03/Pastor.png
END:VEVENT
BEGIN:VEVENT
DTSTART;TZID=America/New_York:20251004T090000
DTEND;TZID=America/New_York:20251004T110000
DTSTAMP:20260423T175528
CREATED:20250424T163252Z
LAST-MODIFIED:20250723T232513Z
UID:10000671-1759568400-1759575600@vofn.org
SUMMARY:Discipleship - The Disciple's Personality
DESCRIPTION:
URL:https://vofn.org/event/discipleship-the-disciples-personality/2025-10-04/
LOCATION:Voices of Faith North\, 2500 Clean Water Ct\, Buford\, GA\, 30519\, United States
ATTACH;FMTTYPE=image/png:https://vofn.org/wp-content/uploads/2025/04/Discipleship_Personality.png
END:VEVENT
BEGIN:VEVENT
DTSTART;TZID=America/New_York:20250930T190000
DTEND;TZID=America/New_York:20250930T193000
DTSTAMP:20260423T175528
CREATED:20240124T035043Z
LAST-MODIFIED:20250424T161429Z
UID:10000376-1759258800-1759260600@vofn.org
SUMMARY:Weekly Bible Study
DESCRIPTION:
URL:https://vofn.org/event/weekly-bible-study/2025-09-30/
LOCATION:Online Event\, GA\, United States
CATEGORIES:Bible Study
ATTACH;FMTTYPE=image/png:https://vofn.org/wp-content/uploads/2025/04/BibleStudy_v2.png
ORGANIZER;CN="Pastor Mark Duncan":MAILTO:pastorduncan@voicesfailth.org
END:VEVENT
BEGIN:VEVENT
DTSTART;TZID=America/New_York:20250928T103000
DTEND;TZID=America/New_York:20250928T120000
DTSTAMP:20260423T175528
CREATED:20230225T224251Z
LAST-MODIFIED:20260311T195541Z
UID:10000108-1759055400-1759060800@vofn.org
SUMMARY:Voices of Faith North - Sunday Service
DESCRIPTION:Join us for a dynamic faith-based service\, at voices of faith north.
URL:https://vofn.org/event/voices-of-faith-north-sunday-service/2025-09-28/
LOCATION:Voices of Faith North\, 2500 Clean Water Ct\, Buford\, GA\, 30519\, United States
CATEGORIES:Sunday Service
ATTACH;FMTTYPE=image/png:https://vofn.org/wp-content/uploads/2024/03/Pastor.png
END:VEVENT
BEGIN:VEVENT
DTSTART;TZID=America/New_York:20250927T110000
DTEND;TZID=America/New_York:20250927T133000
DTSTAMP:20260423T175528
CREATED:20250911T222053Z
LAST-MODIFIED:20250911T222053Z
UID:10000694-1758970800-1758979800@vofn.org
SUMMARY:Men's Top Golf Outting
DESCRIPTION:
URL:https://vofn.org/event/mens-top-golf-outting/
LOCATION:Top Golf\, 2935 Buford Dr\, Buford\, GA\, United States
ATTACH;FMTTYPE=image/avif:https://vofn.org/wp-content/uploads/2025/09/18899_1696950585_full.avif
END:VEVENT
BEGIN:VEVENT
DTSTART;TZID=America/New_York:20250923T190000
DTEND;TZID=America/New_York:20250923T193000
DTSTAMP:20260423T175528
CREATED:20240124T035043Z
LAST-MODIFIED:20250424T161429Z
UID:10000375-1758654000-1758655800@vofn.org
SUMMARY:Weekly Bible Study
DESCRIPTION:
URL:https://vofn.org/event/weekly-bible-study/2025-09-23/
LOCATION:Online Event\, GA\, United States
CATEGORIES:Bible Study
ATTACH;FMTTYPE=image/png:https://vofn.org/wp-content/uploads/2025/04/BibleStudy_v2.png
ORGANIZER;CN="Pastor Mark Duncan":MAILTO:pastorduncan@voicesfailth.org
END:VEVENT
BEGIN:VEVENT
DTSTART;TZID=America/New_York:20250921T103000
DTEND;TZID=America/New_York:20250921T120000
DTSTAMP:20260423T175528
CREATED:20230225T224251Z
LAST-MODIFIED:20260311T195541Z
UID:10000107-1758450600-1758456000@vofn.org
SUMMARY:Voices of Faith North - Sunday Service
DESCRIPTION:Join us for a dynamic faith-based service\, at voices of faith north.
URL:https://vofn.org/event/voices-of-faith-north-sunday-service/2025-09-21/
LOCATION:Voices of Faith North\, 2500 Clean Water Ct\, Buford\, GA\, 30519\, United States
CATEGORIES:Sunday Service
ATTACH;FMTTYPE=image/png:https://vofn.org/wp-content/uploads/2024/03/Pastor.png
END:VEVENT
BEGIN:VEVENT
DTSTART;TZID=America/New_York:20250916T190000
DTEND;TZID=America/New_York:20250916T193000
DTSTAMP:20260423T175528
CREATED:20240124T035043Z
LAST-MODIFIED:20250424T161429Z
UID:10000374-1758049200-1758051000@vofn.org
SUMMARY:Weekly Bible Study
DESCRIPTION:
URL:https://vofn.org/event/weekly-bible-study/2025-09-16/
LOCATION:Online Event\, GA\, United States
CATEGORIES:Bible Study
ATTACH;FMTTYPE=image/png:https://vofn.org/wp-content/uploads/2025/04/BibleStudy_v2.png
ORGANIZER;CN="Pastor Mark Duncan":MAILTO:pastorduncan@voicesfailth.org
END:VEVENT
END:VCALENDAR