BEGIN:VCALENDAR
VERSION:2.0
PRODID:-//Voices of Faith North - ECPv6.15.20//NONSGML v1.0//EN
CALSCALE:GREGORIAN
METHOD:PUBLISH
X-ORIGINAL-URL:https://vofn.org
X-WR-CALDESC:Events for Voices of Faith North
REFRESH-INTERVAL;VALUE=DURATION:PT1H
X-Robots-Tag:noindex
X-PUBLISHED-TTL:PT1H
BEGIN:VTIMEZONE
TZID:America/New_York
BEGIN:DAYLIGHT
TZOFFSETFROM:-0500
TZOFFSETTO:-0400
TZNAME:EDT
DTSTART:20250309T070000
END:DAYLIGHT
BEGIN:STANDARD
TZOFFSETFROM:-0400
TZOFFSETTO:-0500
TZNAME:EST
DTSTART:20251102T060000
END:STANDARD
BEGIN:DAYLIGHT
TZOFFSETFROM:-0500
TZOFFSETTO:-0400
TZNAME:EDT
DTSTART:20260308T070000
END:DAYLIGHT
BEGIN:STANDARD
TZOFFSETFROM:-0400
TZOFFSETTO:-0500
TZNAME:EST
DTSTART:20261101T060000
END:STANDARD
BEGIN:DAYLIGHT
TZOFFSETFROM:-0500
TZOFFSETTO:-0400
TZNAME:EDT
DTSTART:20270314T070000
END:DAYLIGHT
BEGIN:STANDARD
TZOFFSETFROM:-0400
TZOFFSETTO:-0500
TZNAME:EST
DTSTART:20271107T060000
END:STANDARD
BEGIN:DAYLIGHT
TZOFFSETFROM:-0500
TZOFFSETTO:-0400
TZNAME:EDT
DTSTART:20280312T070000
END:DAYLIGHT
BEGIN:STANDARD
TZOFFSETFROM:-0400
TZOFFSETTO:-0500
TZNAME:EST
DTSTART:20281105T060000
END:STANDARD
END:VTIMEZONE
BEGIN:VEVENT
DTSTART;TZID=America/New_York:20261206T103000
DTEND;TZID=America/New_York:20261206T120000
DTSTAMP:20260423T192818
CREATED:20230225T224251Z
LAST-MODIFIED:20260311T195541Z
UID:10000170-1796553000-1796558400@vofn.org
SUMMARY:Voices of Faith North - Sunday Service
DESCRIPTION:Join us for a dynamic faith-based service\, at voices of faith north.
URL:https://vofn.org/event/voices-of-faith-north-sunday-service/2026-12-06/
LOCATION:Voices of Faith North\, 2500 Clean Water Ct\, Buford\, GA\, 30519\, United States
CATEGORIES:Sunday Service
ATTACH;FMTTYPE=image/png:https://vofn.org/wp-content/uploads/2024/03/Pastor.png
END:VEVENT
BEGIN:VEVENT
DTSTART;TZID=America/New_York:20261208T190000
DTEND;TZID=America/New_York:20261208T193000
DTSTAMP:20260423T192818
CREATED:20240124T035043Z
LAST-MODIFIED:20250424T161429Z
UID:10000438-1796756400-1796758200@vofn.org
SUMMARY:Weekly Bible Study
DESCRIPTION:
URL:https://vofn.org/event/weekly-bible-study/2026-12-08/
LOCATION:Online Event\, GA\, United States
CATEGORIES:Bible Study
ATTACH;FMTTYPE=image/png:https://vofn.org/wp-content/uploads/2025/04/BibleStudy_v2.png
ORGANIZER;CN="Pastor Mark Duncan":MAILTO:pastorduncan@voicesfailth.org
END:VEVENT
BEGIN:VEVENT
DTSTART;TZID=America/New_York:20261213T103000
DTEND;TZID=America/New_York:20261213T120000
DTSTAMP:20260423T192818
CREATED:20230225T224251Z
LAST-MODIFIED:20260311T195541Z
UID:10000171-1797157800-1797163200@vofn.org
SUMMARY:Voices of Faith North - Sunday Service
DESCRIPTION:Join us for a dynamic faith-based service\, at voices of faith north.
URL:https://vofn.org/event/voices-of-faith-north-sunday-service/2026-12-13/
LOCATION:Voices of Faith North\, 2500 Clean Water Ct\, Buford\, GA\, 30519\, United States
CATEGORIES:Sunday Service
ATTACH;FMTTYPE=image/png:https://vofn.org/wp-content/uploads/2024/03/Pastor.png
END:VEVENT
BEGIN:VEVENT
DTSTART;TZID=America/New_York:20261215T190000
DTEND;TZID=America/New_York:20261215T193000
DTSTAMP:20260423T192818
CREATED:20240124T035043Z
LAST-MODIFIED:20250424T161429Z
UID:10000439-1797361200-1797363000@vofn.org
SUMMARY:Weekly Bible Study
DESCRIPTION:
URL:https://vofn.org/event/weekly-bible-study/2026-12-15/
LOCATION:Online Event\, GA\, United States
CATEGORIES:Bible Study
ATTACH;FMTTYPE=image/png:https://vofn.org/wp-content/uploads/2025/04/BibleStudy_v2.png
ORGANIZER;CN="Pastor Mark Duncan":MAILTO:pastorduncan@voicesfailth.org
END:VEVENT
BEGIN:VEVENT
DTSTART;TZID=America/New_York:20261220T103000
DTEND;TZID=America/New_York:20261220T120000
DTSTAMP:20260423T192818
CREATED:20230225T224251Z
LAST-MODIFIED:20260311T195541Z
UID:10000172-1797762600-1797768000@vofn.org
SUMMARY:Voices of Faith North - Sunday Service
DESCRIPTION:Join us for a dynamic faith-based service\, at voices of faith north.
URL:https://vofn.org/event/voices-of-faith-north-sunday-service/2026-12-20/
LOCATION:Voices of Faith North\, 2500 Clean Water Ct\, Buford\, GA\, 30519\, United States
CATEGORIES:Sunday Service
ATTACH;FMTTYPE=image/png:https://vofn.org/wp-content/uploads/2024/03/Pastor.png
END:VEVENT
BEGIN:VEVENT
DTSTART;TZID=America/New_York:20261220T140000
DTEND;TZID=America/New_York:20261220T150000
DTSTAMP:20260423T192818
CREATED:20250216T011815Z
LAST-MODIFIED:20260109T135825Z
UID:10000703-1797775200-1797778800@vofn.org
SUMMARY:Baptism Service
DESCRIPTION:Held every 4th Sunday (3rd Sunday in May\, November and December)\n2pm @ 2500 Rockbridge Rd\, Stone Mountain\, GA 30084\nRegistration is required (click link).\nBaptism Registration
URL:https://vofn.org/event/baptism-service-3-2/2026-12-20/
LOCATION:Voices of Faith Stone Mountian\, 2500 Rockbridge Rd\, SW\, Stone Mountain\, GA\, 30087\, United States
ATTACH;FMTTYPE=image/jpeg:https://vofn.org/wp-content/uploads/2023/05/Baptism.jpg
END:VEVENT
BEGIN:VEVENT
DTSTART;TZID=America/New_York:20261222T190000
DTEND;TZID=America/New_York:20261222T193000
DTSTAMP:20260423T192818
CREATED:20240124T035043Z
LAST-MODIFIED:20250424T161429Z
UID:10000440-1797966000-1797967800@vofn.org
SUMMARY:Weekly Bible Study
DESCRIPTION:
URL:https://vofn.org/event/weekly-bible-study/2026-12-22/
LOCATION:Online Event\, GA\, United States
CATEGORIES:Bible Study
ATTACH;FMTTYPE=image/png:https://vofn.org/wp-content/uploads/2025/04/BibleStudy_v2.png
ORGANIZER;CN="Pastor Mark Duncan":MAILTO:pastorduncan@voicesfailth.org
END:VEVENT
BEGIN:VEVENT
DTSTART;TZID=America/New_York:20261227T103000
DTEND;TZID=America/New_York:20261227T120000
DTSTAMP:20260423T192818
CREATED:20230225T224251Z
LAST-MODIFIED:20260311T195541Z
UID:10000173-1798367400-1798372800@vofn.org
SUMMARY:Voices of Faith North - Sunday Service
DESCRIPTION:Join us for a dynamic faith-based service\, at voices of faith north.
URL:https://vofn.org/event/voices-of-faith-north-sunday-service/2026-12-27/
LOCATION:Voices of Faith North\, 2500 Clean Water Ct\, Buford\, GA\, 30519\, United States
CATEGORIES:Sunday Service
ATTACH;FMTTYPE=image/png:https://vofn.org/wp-content/uploads/2024/03/Pastor.png
END:VEVENT
BEGIN:VEVENT
DTSTART;TZID=America/New_York:20261229T190000
DTEND;TZID=America/New_York:20261229T193000
DTSTAMP:20260423T192818
CREATED:20240124T035043Z
LAST-MODIFIED:20250424T161429Z
UID:10000441-1798570800-1798572600@vofn.org
SUMMARY:Weekly Bible Study
DESCRIPTION:
URL:https://vofn.org/event/weekly-bible-study/2026-12-29/
LOCATION:Online Event\, GA\, United States
CATEGORIES:Bible Study
ATTACH;FMTTYPE=image/png:https://vofn.org/wp-content/uploads/2025/04/BibleStudy_v2.png
ORGANIZER;CN="Pastor Mark Duncan":MAILTO:pastorduncan@voicesfailth.org
END:VEVENT
BEGIN:VEVENT
DTSTART;TZID=America/New_York:20270103T103000
DTEND;TZID=America/New_York:20270103T120000
DTSTAMP:20260423T192818
CREATED:20230225T224251Z
LAST-MODIFIED:20260311T195541Z
UID:10000174-1798972200-1798977600@vofn.org
SUMMARY:Voices of Faith North - Sunday Service
DESCRIPTION:Join us for a dynamic faith-based service\, at voices of faith north.
URL:https://vofn.org/event/voices-of-faith-north-sunday-service/2027-01-03/
LOCATION:Voices of Faith North\, 2500 Clean Water Ct\, Buford\, GA\, 30519\, United States
CATEGORIES:Sunday Service
ATTACH;FMTTYPE=image/png:https://vofn.org/wp-content/uploads/2024/03/Pastor.png
END:VEVENT
BEGIN:VEVENT
DTSTART;TZID=America/New_York:20270105T190000
DTEND;TZID=America/New_York:20270105T193000
DTSTAMP:20260423T192818
CREATED:20240124T035043Z
LAST-MODIFIED:20250424T161429Z
UID:10000442-1799175600-1799177400@vofn.org
SUMMARY:Weekly Bible Study
DESCRIPTION:
URL:https://vofn.org/event/weekly-bible-study/2027-01-05/
LOCATION:Online Event\, GA\, United States
CATEGORIES:Bible Study
ATTACH;FMTTYPE=image/png:https://vofn.org/wp-content/uploads/2025/04/BibleStudy_v2.png
ORGANIZER;CN="Pastor Mark Duncan":MAILTO:pastorduncan@voicesfailth.org
END:VEVENT
BEGIN:VEVENT
DTSTART;TZID=America/New_York:20270110T103000
DTEND;TZID=America/New_York:20270110T120000
DTSTAMP:20260423T192818
CREATED:20230225T224251Z
LAST-MODIFIED:20260311T195541Z
UID:10000175-1799577000-1799582400@vofn.org
SUMMARY:Voices of Faith North - Sunday Service
DESCRIPTION:Join us for a dynamic faith-based service\, at voices of faith north.
URL:https://vofn.org/event/voices-of-faith-north-sunday-service/2027-01-10/
LOCATION:Voices of Faith North\, 2500 Clean Water Ct\, Buford\, GA\, 30519\, United States
CATEGORIES:Sunday Service
ATTACH;FMTTYPE=image/png:https://vofn.org/wp-content/uploads/2024/03/Pastor.png
END:VEVENT
BEGIN:VEVENT
DTSTART;TZID=America/New_York:20270112T190000
DTEND;TZID=America/New_York:20270112T193000
DTSTAMP:20260423T192818
CREATED:20240124T035043Z
LAST-MODIFIED:20250424T161429Z
UID:10000443-1799780400-1799782200@vofn.org
SUMMARY:Weekly Bible Study
DESCRIPTION:
URL:https://vofn.org/event/weekly-bible-study/2027-01-12/
LOCATION:Online Event\, GA\, United States
CATEGORIES:Bible Study
ATTACH;FMTTYPE=image/png:https://vofn.org/wp-content/uploads/2025/04/BibleStudy_v2.png
ORGANIZER;CN="Pastor Mark Duncan":MAILTO:pastorduncan@voicesfailth.org
END:VEVENT
BEGIN:VEVENT
DTSTART;TZID=America/New_York:20270117T103000
DTEND;TZID=America/New_York:20270117T120000
DTSTAMP:20260423T192818
CREATED:20230225T224251Z
LAST-MODIFIED:20260311T195541Z
UID:10000176-1800181800-1800187200@vofn.org
SUMMARY:Voices of Faith North - Sunday Service
DESCRIPTION:Join us for a dynamic faith-based service\, at voices of faith north.
URL:https://vofn.org/event/voices-of-faith-north-sunday-service/2027-01-17/
LOCATION:Voices of Faith North\, 2500 Clean Water Ct\, Buford\, GA\, 30519\, United States
CATEGORIES:Sunday Service
ATTACH;FMTTYPE=image/png:https://vofn.org/wp-content/uploads/2024/03/Pastor.png
END:VEVENT
BEGIN:VEVENT
DTSTART;TZID=America/New_York:20270119T190000
DTEND;TZID=America/New_York:20270119T193000
DTSTAMP:20260423T192818
CREATED:20240124T035043Z
LAST-MODIFIED:20250424T161429Z
UID:10000444-1800385200-1800387000@vofn.org
SUMMARY:Weekly Bible Study
DESCRIPTION:
URL:https://vofn.org/event/weekly-bible-study/2027-01-19/
LOCATION:Online Event\, GA\, United States
CATEGORIES:Bible Study
ATTACH;FMTTYPE=image/png:https://vofn.org/wp-content/uploads/2025/04/BibleStudy_v2.png
ORGANIZER;CN="Pastor Mark Duncan":MAILTO:pastorduncan@voicesfailth.org
END:VEVENT
BEGIN:VEVENT
DTSTART;TZID=America/New_York:20270124T103000
DTEND;TZID=America/New_York:20270124T120000
DTSTAMP:20260423T192818
CREATED:20230225T224251Z
LAST-MODIFIED:20260311T195541Z
UID:10000177-1800786600-1800792000@vofn.org
SUMMARY:Voices of Faith North - Sunday Service
DESCRIPTION:Join us for a dynamic faith-based service\, at voices of faith north.
URL:https://vofn.org/event/voices-of-faith-north-sunday-service/2027-01-24/
LOCATION:Voices of Faith North\, 2500 Clean Water Ct\, Buford\, GA\, 30519\, United States
CATEGORIES:Sunday Service
ATTACH;FMTTYPE=image/png:https://vofn.org/wp-content/uploads/2024/03/Pastor.png
END:VEVENT
BEGIN:VEVENT
DTSTART;TZID=America/New_York:20270126T190000
DTEND;TZID=America/New_York:20270126T193000
DTSTAMP:20260423T192818
CREATED:20240124T035043Z
LAST-MODIFIED:20250424T161429Z
UID:10000445-1800990000-1800991800@vofn.org
SUMMARY:Weekly Bible Study
DESCRIPTION:
URL:https://vofn.org/event/weekly-bible-study/2027-01-26/
LOCATION:Online Event\, GA\, United States
CATEGORIES:Bible Study
ATTACH;FMTTYPE=image/png:https://vofn.org/wp-content/uploads/2025/04/BibleStudy_v2.png
ORGANIZER;CN="Pastor Mark Duncan":MAILTO:pastorduncan@voicesfailth.org
END:VEVENT
BEGIN:VEVENT
DTSTART;TZID=America/New_York:20270131T103000
DTEND;TZID=America/New_York:20270131T120000
DTSTAMP:20260423T192818
CREATED:20230225T224251Z
LAST-MODIFIED:20260311T195541Z
UID:10000178-1801391400-1801396800@vofn.org
SUMMARY:Voices of Faith North - Sunday Service
DESCRIPTION:Join us for a dynamic faith-based service\, at voices of faith north.
URL:https://vofn.org/event/voices-of-faith-north-sunday-service/2027-01-31/
LOCATION:Voices of Faith North\, 2500 Clean Water Ct\, Buford\, GA\, 30519\, United States
CATEGORIES:Sunday Service
ATTACH;FMTTYPE=image/png:https://vofn.org/wp-content/uploads/2024/03/Pastor.png
END:VEVENT
BEGIN:VEVENT
DTSTART;TZID=America/New_York:20270202T190000
DTEND;TZID=America/New_York:20270202T193000
DTSTAMP:20260423T192818
CREATED:20240124T035043Z
LAST-MODIFIED:20250424T161429Z
UID:10000446-1801594800-1801596600@vofn.org
SUMMARY:Weekly Bible Study
DESCRIPTION:
URL:https://vofn.org/event/weekly-bible-study/2027-02-02/
LOCATION:Online Event\, GA\, United States
CATEGORIES:Bible Study
ATTACH;FMTTYPE=image/png:https://vofn.org/wp-content/uploads/2025/04/BibleStudy_v2.png
ORGANIZER;CN="Pastor Mark Duncan":MAILTO:pastorduncan@voicesfailth.org
END:VEVENT
BEGIN:VEVENT
DTSTART;TZID=America/New_York:20270207T103000
DTEND;TZID=America/New_York:20270207T120000
DTSTAMP:20260423T192818
CREATED:20230225T224251Z
LAST-MODIFIED:20260311T195541Z
UID:10000179-1801996200-1802001600@vofn.org
SUMMARY:Voices of Faith North - Sunday Service
DESCRIPTION:Join us for a dynamic faith-based service\, at voices of faith north.
URL:https://vofn.org/event/voices-of-faith-north-sunday-service/2027-02-07/
LOCATION:Voices of Faith North\, 2500 Clean Water Ct\, Buford\, GA\, 30519\, United States
CATEGORIES:Sunday Service
ATTACH;FMTTYPE=image/png:https://vofn.org/wp-content/uploads/2024/03/Pastor.png
END:VEVENT
BEGIN:VEVENT
DTSTART;TZID=America/New_York:20270209T190000
DTEND;TZID=America/New_York:20270209T193000
DTSTAMP:20260423T192818
CREATED:20240124T035043Z
LAST-MODIFIED:20250424T161429Z
UID:10000447-1802199600-1802201400@vofn.org
SUMMARY:Weekly Bible Study
DESCRIPTION:
URL:https://vofn.org/event/weekly-bible-study/2027-02-09/
LOCATION:Online Event\, GA\, United States
CATEGORIES:Bible Study
ATTACH;FMTTYPE=image/png:https://vofn.org/wp-content/uploads/2025/04/BibleStudy_v2.png
ORGANIZER;CN="Pastor Mark Duncan":MAILTO:pastorduncan@voicesfailth.org
END:VEVENT
BEGIN:VEVENT
DTSTART;TZID=America/New_York:20270214T103000
DTEND;TZID=America/New_York:20270214T120000
DTSTAMP:20260423T192818
CREATED:20230225T224251Z
LAST-MODIFIED:20260311T195541Z
UID:10000180-1802601000-1802606400@vofn.org
SUMMARY:Voices of Faith North - Sunday Service
DESCRIPTION:Join us for a dynamic faith-based service\, at voices of faith north.
URL:https://vofn.org/event/voices-of-faith-north-sunday-service/2027-02-14/
LOCATION:Voices of Faith North\, 2500 Clean Water Ct\, Buford\, GA\, 30519\, United States
CATEGORIES:Sunday Service
ATTACH;FMTTYPE=image/png:https://vofn.org/wp-content/uploads/2024/03/Pastor.png
END:VEVENT
BEGIN:VEVENT
DTSTART;TZID=America/New_York:20270216T190000
DTEND;TZID=America/New_York:20270216T193000
DTSTAMP:20260423T192818
CREATED:20240124T035043Z
LAST-MODIFIED:20250424T161429Z
UID:10000448-1802804400-1802806200@vofn.org
SUMMARY:Weekly Bible Study
DESCRIPTION:
URL:https://vofn.org/event/weekly-bible-study/2027-02-16/
LOCATION:Online Event\, GA\, United States
CATEGORIES:Bible Study
ATTACH;FMTTYPE=image/png:https://vofn.org/wp-content/uploads/2025/04/BibleStudy_v2.png
ORGANIZER;CN="Pastor Mark Duncan":MAILTO:pastorduncan@voicesfailth.org
END:VEVENT
BEGIN:VEVENT
DTSTART;TZID=America/New_York:20270221T103000
DTEND;TZID=America/New_York:20270221T120000
DTSTAMP:20260423T192818
CREATED:20230225T224251Z
LAST-MODIFIED:20260311T195541Z
UID:10000181-1803205800-1803211200@vofn.org
SUMMARY:Voices of Faith North - Sunday Service
DESCRIPTION:Join us for a dynamic faith-based service\, at voices of faith north.
URL:https://vofn.org/event/voices-of-faith-north-sunday-service/2027-02-21/
LOCATION:Voices of Faith North\, 2500 Clean Water Ct\, Buford\, GA\, 30519\, United States
CATEGORIES:Sunday Service
ATTACH;FMTTYPE=image/png:https://vofn.org/wp-content/uploads/2024/03/Pastor.png
END:VEVENT
BEGIN:VEVENT
DTSTART;TZID=America/New_York:20270223T190000
DTEND;TZID=America/New_York:20270223T193000
DTSTAMP:20260423T192818
CREATED:20240124T035043Z
LAST-MODIFIED:20250424T161429Z
UID:10000449-1803409200-1803411000@vofn.org
SUMMARY:Weekly Bible Study
DESCRIPTION:
URL:https://vofn.org/event/weekly-bible-study/2027-02-23/
LOCATION:Online Event\, GA\, United States
CATEGORIES:Bible Study
ATTACH;FMTTYPE=image/png:https://vofn.org/wp-content/uploads/2025/04/BibleStudy_v2.png
ORGANIZER;CN="Pastor Mark Duncan":MAILTO:pastorduncan@voicesfailth.org
END:VEVENT
BEGIN:VEVENT
DTSTART;TZID=America/New_York:20270228T103000
DTEND;TZID=America/New_York:20270228T120000
DTSTAMP:20260423T192818
CREATED:20230225T224251Z
LAST-MODIFIED:20260311T195541Z
UID:10000182-1803810600-1803816000@vofn.org
SUMMARY:Voices of Faith North - Sunday Service
DESCRIPTION:Join us for a dynamic faith-based service\, at voices of faith north.
URL:https://vofn.org/event/voices-of-faith-north-sunday-service/2027-02-28/
LOCATION:Voices of Faith North\, 2500 Clean Water Ct\, Buford\, GA\, 30519\, United States
CATEGORIES:Sunday Service
ATTACH;FMTTYPE=image/png:https://vofn.org/wp-content/uploads/2024/03/Pastor.png
END:VEVENT
BEGIN:VEVENT
DTSTART;TZID=America/New_York:20270302T190000
DTEND;TZID=America/New_York:20270302T193000
DTSTAMP:20260423T192818
CREATED:20240124T035043Z
LAST-MODIFIED:20250424T161429Z
UID:10000450-1804014000-1804015800@vofn.org
SUMMARY:Weekly Bible Study
DESCRIPTION:
URL:https://vofn.org/event/weekly-bible-study/2027-03-02/
LOCATION:Online Event\, GA\, United States
CATEGORIES:Bible Study
ATTACH;FMTTYPE=image/png:https://vofn.org/wp-content/uploads/2025/04/BibleStudy_v2.png
ORGANIZER;CN="Pastor Mark Duncan":MAILTO:pastorduncan@voicesfailth.org
END:VEVENT
BEGIN:VEVENT
DTSTART;TZID=America/New_York:20270307T103000
DTEND;TZID=America/New_York:20270307T120000
DTSTAMP:20260423T192818
CREATED:20230225T224251Z
LAST-MODIFIED:20260311T195541Z
UID:10000183-1804415400-1804420800@vofn.org
SUMMARY:Voices of Faith North - Sunday Service
DESCRIPTION:Join us for a dynamic faith-based service\, at voices of faith north.
URL:https://vofn.org/event/voices-of-faith-north-sunday-service/2027-03-07/
LOCATION:Voices of Faith North\, 2500 Clean Water Ct\, Buford\, GA\, 30519\, United States
CATEGORIES:Sunday Service
ATTACH;FMTTYPE=image/png:https://vofn.org/wp-content/uploads/2024/03/Pastor.png
END:VEVENT
BEGIN:VEVENT
DTSTART;TZID=America/New_York:20270309T190000
DTEND;TZID=America/New_York:20270309T193000
DTSTAMP:20260423T192818
CREATED:20240124T035043Z
LAST-MODIFIED:20250424T161429Z
UID:10000451-1804618800-1804620600@vofn.org
SUMMARY:Weekly Bible Study
DESCRIPTION:
URL:https://vofn.org/event/weekly-bible-study/2027-03-09/
LOCATION:Online Event\, GA\, United States
CATEGORIES:Bible Study
ATTACH;FMTTYPE=image/png:https://vofn.org/wp-content/uploads/2025/04/BibleStudy_v2.png
ORGANIZER;CN="Pastor Mark Duncan":MAILTO:pastorduncan@voicesfailth.org
END:VEVENT
BEGIN:VEVENT
DTSTART;TZID=America/New_York:20270314T103000
DTEND;TZID=America/New_York:20270314T120000
DTSTAMP:20260423T192818
CREATED:20230225T224251Z
LAST-MODIFIED:20260311T195541Z
UID:10000184-1805020200-1805025600@vofn.org
SUMMARY:Voices of Faith North - Sunday Service
DESCRIPTION:Join us for a dynamic faith-based service\, at voices of faith north.
URL:https://vofn.org/event/voices-of-faith-north-sunday-service/2027-03-14/
LOCATION:Voices of Faith North\, 2500 Clean Water Ct\, Buford\, GA\, 30519\, United States
CATEGORIES:Sunday Service
ATTACH;FMTTYPE=image/png:https://vofn.org/wp-content/uploads/2024/03/Pastor.png
END:VEVENT
END:VCALENDAR