BEGIN:VCALENDAR
VERSION:2.0
PRODID:-//Voices of Faith North - ECPv6.15.20//NONSGML v1.0//EN
CALSCALE:GREGORIAN
METHOD:PUBLISH
X-WR-CALNAME:Voices of Faith North
X-ORIGINAL-URL:https://vofn.org
X-WR-CALDESC:Events for Voices of Faith North
REFRESH-INTERVAL;VALUE=DURATION:PT1H
X-Robots-Tag:noindex
X-PUBLISHED-TTL:PT1H
BEGIN:VTIMEZONE
TZID:America/New_York
BEGIN:DAYLIGHT
TZOFFSETFROM:-0500
TZOFFSETTO:-0400
TZNAME:EDT
DTSTART:20280312T070000
END:DAYLIGHT
BEGIN:STANDARD
TZOFFSETFROM:-0400
TZOFFSETTO:-0500
TZNAME:EST
DTSTART:20281105T060000
END:STANDARD
BEGIN:DAYLIGHT
TZOFFSETFROM:-0500
TZOFFSETTO:-0400
TZNAME:EDT
DTSTART:20290311T070000
END:DAYLIGHT
BEGIN:STANDARD
TZOFFSETFROM:-0400
TZOFFSETTO:-0500
TZNAME:EST
DTSTART:20291104T060000
END:STANDARD
BEGIN:DAYLIGHT
TZOFFSETFROM:-0500
TZOFFSETTO:-0400
TZNAME:EDT
DTSTART:20300310T070000
END:DAYLIGHT
BEGIN:STANDARD
TZOFFSETFROM:-0400
TZOFFSETTO:-0500
TZNAME:EST
DTSTART:20301103T060000
END:STANDARD
END:VTIMEZONE
BEGIN:VEVENT
DTSTART;TZID=America/New_York:20290304T103000
DTEND;TZID=America/New_York:20290304T120000
DTSTAMP:20260425T235856
CREATED:20230225T224251Z
LAST-MODIFIED:20260311T195541Z
UID:10000287-1867314600-1867320000@vofn.org
SUMMARY:Voices of Faith North - Sunday Service
DESCRIPTION:Join us for a dynamic faith-based service\, at voices of faith north.
URL:https://vofn.org/event/voices-of-faith-north-sunday-service/2029-03-04/
LOCATION:Voices of Faith North\, 2500 Clean Water Ct\, Buford\, GA\, 30519\, United States
CATEGORIES:Sunday Service
ATTACH;FMTTYPE=image/png:https://vofn.org/wp-content/uploads/2024/03/Pastor.png
END:VEVENT
BEGIN:VEVENT
DTSTART;TZID=America/New_York:20290306T190000
DTEND;TZID=America/New_York:20290306T193000
DTSTAMP:20260425T235856
CREATED:20240124T035043Z
LAST-MODIFIED:20250424T161429Z
UID:10000555-1867518000-1867519800@vofn.org
SUMMARY:Weekly Bible Study
DESCRIPTION:
URL:https://vofn.org/event/weekly-bible-study/2029-03-06/
LOCATION:Online Event\, GA\, United States
CATEGORIES:Bible Study
ATTACH;FMTTYPE=image/png:https://vofn.org/wp-content/uploads/2025/04/BibleStudy_v2.png
ORGANIZER;CN="Pastor Mark Duncan":MAILTO:pastorduncan@voicesfailth.org
END:VEVENT
BEGIN:VEVENT
DTSTART;TZID=America/New_York:20290311T103000
DTEND;TZID=America/New_York:20290311T120000
DTSTAMP:20260425T235856
CREATED:20230225T224251Z
LAST-MODIFIED:20260311T195541Z
UID:10000288-1867919400-1867924800@vofn.org
SUMMARY:Voices of Faith North - Sunday Service
DESCRIPTION:Join us for a dynamic faith-based service\, at voices of faith north.
URL:https://vofn.org/event/voices-of-faith-north-sunday-service/2029-03-11/
LOCATION:Voices of Faith North\, 2500 Clean Water Ct\, Buford\, GA\, 30519\, United States
CATEGORIES:Sunday Service
ATTACH;FMTTYPE=image/png:https://vofn.org/wp-content/uploads/2024/03/Pastor.png
END:VEVENT
BEGIN:VEVENT
DTSTART;TZID=America/New_York:20290313T190000
DTEND;TZID=America/New_York:20290313T193000
DTSTAMP:20260425T235856
CREATED:20240124T035043Z
LAST-MODIFIED:20250424T161429Z
UID:10000556-1868122800-1868124600@vofn.org
SUMMARY:Weekly Bible Study
DESCRIPTION:
URL:https://vofn.org/event/weekly-bible-study/2029-03-13/
LOCATION:Online Event\, GA\, United States
CATEGORIES:Bible Study
ATTACH;FMTTYPE=image/png:https://vofn.org/wp-content/uploads/2025/04/BibleStudy_v2.png
ORGANIZER;CN="Pastor Mark Duncan":MAILTO:pastorduncan@voicesfailth.org
END:VEVENT
BEGIN:VEVENT
DTSTART;TZID=America/New_York:20290318T103000
DTEND;TZID=America/New_York:20290318T120000
DTSTAMP:20260425T235856
CREATED:20230225T224251Z
LAST-MODIFIED:20260311T195541Z
UID:10000289-1868524200-1868529600@vofn.org
SUMMARY:Voices of Faith North - Sunday Service
DESCRIPTION:Join us for a dynamic faith-based service\, at voices of faith north.
URL:https://vofn.org/event/voices-of-faith-north-sunday-service/2029-03-18/
LOCATION:Voices of Faith North\, 2500 Clean Water Ct\, Buford\, GA\, 30519\, United States
CATEGORIES:Sunday Service
ATTACH;FMTTYPE=image/png:https://vofn.org/wp-content/uploads/2024/03/Pastor.png
END:VEVENT
BEGIN:VEVENT
DTSTART;TZID=America/New_York:20290320T190000
DTEND;TZID=America/New_York:20290320T193000
DTSTAMP:20260425T235856
CREATED:20240124T035043Z
LAST-MODIFIED:20250424T161429Z
UID:10000557-1868727600-1868729400@vofn.org
SUMMARY:Weekly Bible Study
DESCRIPTION:
URL:https://vofn.org/event/weekly-bible-study/2029-03-20/
LOCATION:Online Event\, GA\, United States
CATEGORIES:Bible Study
ATTACH;FMTTYPE=image/png:https://vofn.org/wp-content/uploads/2025/04/BibleStudy_v2.png
ORGANIZER;CN="Pastor Mark Duncan":MAILTO:pastorduncan@voicesfailth.org
END:VEVENT
BEGIN:VEVENT
DTSTART;TZID=America/New_York:20290325T103000
DTEND;TZID=America/New_York:20290325T120000
DTSTAMP:20260425T235856
CREATED:20230225T224251Z
LAST-MODIFIED:20260311T195541Z
UID:10000290-1869129000-1869134400@vofn.org
SUMMARY:Voices of Faith North - Sunday Service
DESCRIPTION:Join us for a dynamic faith-based service\, at voices of faith north.
URL:https://vofn.org/event/voices-of-faith-north-sunday-service/2029-03-25/
LOCATION:Voices of Faith North\, 2500 Clean Water Ct\, Buford\, GA\, 30519\, United States
CATEGORIES:Sunday Service
ATTACH;FMTTYPE=image/png:https://vofn.org/wp-content/uploads/2024/03/Pastor.png
END:VEVENT
BEGIN:VEVENT
DTSTART;TZID=America/New_York:20290327T190000
DTEND;TZID=America/New_York:20290327T193000
DTSTAMP:20260425T235856
CREATED:20240124T035043Z
LAST-MODIFIED:20250424T161429Z
UID:10000558-1869332400-1869334200@vofn.org
SUMMARY:Weekly Bible Study
DESCRIPTION:
URL:https://vofn.org/event/weekly-bible-study/2029-03-27/
LOCATION:Online Event\, GA\, United States
CATEGORIES:Bible Study
ATTACH;FMTTYPE=image/png:https://vofn.org/wp-content/uploads/2025/04/BibleStudy_v2.png
ORGANIZER;CN="Pastor Mark Duncan":MAILTO:pastorduncan@voicesfailth.org
END:VEVENT
END:VCALENDAR