BEGIN:VCALENDAR
VERSION:2.0
PRODID:-//Voices of Faith North - ECPv6.15.20//NONSGML v1.0//EN
CALSCALE:GREGORIAN
METHOD:PUBLISH
X-WR-CALNAME:Voices of Faith North
X-ORIGINAL-URL:https://vofn.org
X-WR-CALDESC:Events for Voices of Faith North
REFRESH-INTERVAL;VALUE=DURATION:PT1H
X-Robots-Tag:noindex
X-PUBLISHED-TTL:PT1H
BEGIN:VTIMEZONE
TZID:America/New_York
BEGIN:DAYLIGHT
TZOFFSETFROM:-0500
TZOFFSETTO:-0400
TZNAME:EDT
DTSTART:20250309T070000
END:DAYLIGHT
BEGIN:STANDARD
TZOFFSETFROM:-0400
TZOFFSETTO:-0500
TZNAME:EST
DTSTART:20251102T060000
END:STANDARD
BEGIN:DAYLIGHT
TZOFFSETFROM:-0500
TZOFFSETTO:-0400
TZNAME:EDT
DTSTART:20260308T070000
END:DAYLIGHT
BEGIN:STANDARD
TZOFFSETFROM:-0400
TZOFFSETTO:-0500
TZNAME:EST
DTSTART:20261101T060000
END:STANDARD
BEGIN:DAYLIGHT
TZOFFSETFROM:-0500
TZOFFSETTO:-0400
TZNAME:EDT
DTSTART:20270314T070000
END:DAYLIGHT
BEGIN:STANDARD
TZOFFSETFROM:-0400
TZOFFSETTO:-0500
TZNAME:EST
DTSTART:20271107T060000
END:STANDARD
END:VTIMEZONE
BEGIN:VEVENT
DTSTART;TZID=America/New_York:20260531T103000
DTEND;TZID=America/New_York:20260531T123000
DTSTAMP:20260423T141625
CREATED:20260109T145225Z
LAST-MODIFIED:20260312T192151Z
UID:10000708-1780223400-1780230600@vofn.org
SUMMARY:Celebrating the Power of One
DESCRIPTION:Matthew 6:10 NLT:\n“May your Kingdom come soon. May your will be done on earth as it is in heaven.”
URL:https://vofn.org/event/family-and-friends-day-2/2026-05-31/
LOCATION:Voices of Faith North\, 2500 Clean Water Ct\, Buford\, GA\, 30519\, United States
ATTACH;FMTTYPE=image/png:https://vofn.org/wp-content/uploads/2026/01/PowerofOne.png
END:VEVENT
BEGIN:VEVENT
DTSTART;TZID=America/New_York:20260830T103000
DTEND;TZID=America/New_York:20260830T123000
DTSTAMP:20260423T141625
CREATED:20260109T145225Z
LAST-MODIFIED:20260312T192151Z
UID:10000709-1788085800-1788093000@vofn.org
SUMMARY:Celebrating the Power of One
DESCRIPTION:Matthew 6:10 NLT:\n“May your Kingdom come soon. May your will be done on earth as it is in heaven.”
URL:https://vofn.org/event/family-and-friends-day-2/2026-08-30/
LOCATION:Voices of Faith North\, 2500 Clean Water Ct\, Buford\, GA\, 30519\, United States
ATTACH;FMTTYPE=image/png:https://vofn.org/wp-content/uploads/2026/01/PowerofOne.png
END:VEVENT
BEGIN:VEVENT
DTSTART;TZID=America/New_York:20261129T103000
DTEND;TZID=America/New_York:20261129T123000
DTSTAMP:20260423T141625
CREATED:20260109T145225Z
LAST-MODIFIED:20260312T192151Z
UID:10000710-1795948200-1795955400@vofn.org
SUMMARY:Celebrating the Power of One
DESCRIPTION:Matthew 6:10 NLT:\n“May your Kingdom come soon. May your will be done on earth as it is in heaven.”
URL:https://vofn.org/event/family-and-friends-day-2/2026-11-29/
LOCATION:Voices of Faith North\, 2500 Clean Water Ct\, Buford\, GA\, 30519\, United States
ATTACH;FMTTYPE=image/png:https://vofn.org/wp-content/uploads/2026/01/PowerofOne.png
END:VEVENT
END:VCALENDAR