BEGIN:VCALENDAR
VERSION:2.0
PRODID:-//Voices of Faith North - ECPv6.15.20//NONSGML v1.0//EN
CALSCALE:GREGORIAN
METHOD:PUBLISH
X-WR-CALNAME:Voices of Faith North
X-ORIGINAL-URL:https://vofn.org
X-WR-CALDESC:Events for Voices of Faith North
REFRESH-INTERVAL;VALUE=DURATION:PT1H
X-Robots-Tag:noindex
X-PUBLISHED-TTL:PT1H
BEGIN:VTIMEZONE
TZID:America/New_York
BEGIN:DAYLIGHT
TZOFFSETFROM:-0500
TZOFFSETTO:-0400
TZNAME:EDT
DTSTART:20240310T070000
END:DAYLIGHT
BEGIN:STANDARD
TZOFFSETFROM:-0400
TZOFFSETTO:-0500
TZNAME:EST
DTSTART:20241103T060000
END:STANDARD
BEGIN:DAYLIGHT
TZOFFSETFROM:-0500
TZOFFSETTO:-0400
TZNAME:EDT
DTSTART:20250309T070000
END:DAYLIGHT
BEGIN:STANDARD
TZOFFSETFROM:-0400
TZOFFSETTO:-0500
TZNAME:EST
DTSTART:20251102T060000
END:STANDARD
BEGIN:DAYLIGHT
TZOFFSETFROM:-0500
TZOFFSETTO:-0400
TZNAME:EDT
DTSTART:20260308T070000
END:DAYLIGHT
BEGIN:STANDARD
TZOFFSETFROM:-0400
TZOFFSETTO:-0500
TZNAME:EST
DTSTART:20261101T060000
END:STANDARD
END:VTIMEZONE
BEGIN:VEVENT
DTSTART;TZID=America/New_York:20250621T090000
DTEND;TZID=America/New_York:20250621T110000
DTSTAMP:20260423T211541
CREATED:20250216T194726Z
LAST-MODIFIED:20250522T012437Z
UID:10000625-1750496400-1750503600@vofn.org
SUMMARY:Men's Ministry Meeting
DESCRIPTION:Men’s Ministry Fellowship: Firearm Safety EducationJoin us for an engaging and essential Men’s Ministry Fellowship focused on Firearm Safety\, taught by certified NRA Instructor Douglas  James. Whether you’re a seasoned gun owner or just starting out\, this event will provide valuable knowledge to help protect your home\, family\, and community. Young men 12 and up invite – Learn the practical application of: \n\nBiblical perspective on responsibility and protection\nFirearm handling basics and best practices\nSafe storage and access strategies\nQ&A session to follow
URL:https://vofn.org/event/mens-ministry-meeting/
LOCATION:Voices of Faith North\, 2500 Clean Water Ct\, Buford\, GA\, 30519\, United States
ATTACH;FMTTYPE=image/jpeg:https://vofn.org/wp-content/uploads/2025/02/Mens-Ministry.jpg
END:VEVENT
BEGIN:VEVENT
DTSTART;TZID=America/New_York:20250615T103000
DTEND;TZID=America/New_York:20250615T120000
DTSTAMP:20260423T211541
CREATED:20230225T224251Z
LAST-MODIFIED:20260311T195541Z
UID:10000093-1749983400-1749988800@vofn.org
SUMMARY:Voices of Faith North - Sunday Service
DESCRIPTION:Join us for a dynamic faith-based service\, at voices of faith north.
URL:https://vofn.org/event/voices-of-faith-north-sunday-service/2025-06-15/
LOCATION:Voices of Faith North\, 2500 Clean Water Ct\, Buford\, GA\, 30519\, United States
CATEGORIES:Sunday Service
ATTACH;FMTTYPE=image/png:https://vofn.org/wp-content/uploads/2024/03/Pastor.png
END:VEVENT
BEGIN:VEVENT
DTSTART;TZID=America/New_York:20250608T103000
DTEND;TZID=America/New_York:20250608T120000
DTSTAMP:20260423T211541
CREATED:20230225T224251Z
LAST-MODIFIED:20260311T195541Z
UID:10000092-1749378600-1749384000@vofn.org
SUMMARY:Voices of Faith North - Sunday Service
DESCRIPTION:Join us for a dynamic faith-based service\, at voices of faith north.
URL:https://vofn.org/event/voices-of-faith-north-sunday-service/2025-06-08/
LOCATION:Voices of Faith North\, 2500 Clean Water Ct\, Buford\, GA\, 30519\, United States
CATEGORIES:Sunday Service
ATTACH;FMTTYPE=image/png:https://vofn.org/wp-content/uploads/2024/03/Pastor.png
END:VEVENT
BEGIN:VEVENT
DTSTART;TZID=America/New_York:20250601T103000
DTEND;TZID=America/New_York:20250601T120000
DTSTAMP:20260423T211541
CREATED:20230225T224251Z
LAST-MODIFIED:20260311T195541Z
UID:10000091-1748773800-1748779200@vofn.org
SUMMARY:Voices of Faith North - Sunday Service
DESCRIPTION:Join us for a dynamic faith-based service\, at voices of faith north.
URL:https://vofn.org/event/voices-of-faith-north-sunday-service/2025-06-01/
LOCATION:Voices of Faith North\, 2500 Clean Water Ct\, Buford\, GA\, 30519\, United States
CATEGORIES:Sunday Service
ATTACH;FMTTYPE=image/png:https://vofn.org/wp-content/uploads/2024/03/Pastor.png
END:VEVENT
BEGIN:VEVENT
DTSTART;TZID=America/New_York:20250525T103000
DTEND;TZID=America/New_York:20250525T120000
DTSTAMP:20260423T211541
CREATED:20230225T224251Z
LAST-MODIFIED:20260311T195541Z
UID:10000090-1748169000-1748174400@vofn.org
SUMMARY:Voices of Faith North - Sunday Service
DESCRIPTION:Join us for a dynamic faith-based service\, at voices of faith north.
URL:https://vofn.org/event/voices-of-faith-north-sunday-service/2025-05-25/
LOCATION:Voices of Faith North\, 2500 Clean Water Ct\, Buford\, GA\, 30519\, United States
CATEGORIES:Sunday Service
ATTACH;FMTTYPE=image/png:https://vofn.org/wp-content/uploads/2024/03/Pastor.png
END:VEVENT
BEGIN:VEVENT
DTSTART;TZID=America/New_York:20250518T103000
DTEND;TZID=America/New_York:20250518T120000
DTSTAMP:20260423T211541
CREATED:20230225T224251Z
LAST-MODIFIED:20260311T195541Z
UID:10000089-1747564200-1747569600@vofn.org
SUMMARY:Voices of Faith North - Sunday Service
DESCRIPTION:Join us for a dynamic faith-based service\, at voices of faith north.
URL:https://vofn.org/event/voices-of-faith-north-sunday-service/2025-05-18/
LOCATION:Voices of Faith North\, 2500 Clean Water Ct\, Buford\, GA\, 30519\, United States
CATEGORIES:Sunday Service
ATTACH;FMTTYPE=image/png:https://vofn.org/wp-content/uploads/2024/03/Pastor.png
END:VEVENT
BEGIN:VEVENT
DTSTART;TZID=America/New_York:20250511T103000
DTEND;TZID=America/New_York:20250511T120000
DTSTAMP:20260423T211541
CREATED:20230225T224251Z
LAST-MODIFIED:20260311T195541Z
UID:10000088-1746959400-1746964800@vofn.org
SUMMARY:Voices of Faith North - Sunday Service
DESCRIPTION:Join us for a dynamic faith-based service\, at voices of faith north.
URL:https://vofn.org/event/voices-of-faith-north-sunday-service/2025-05-11/
LOCATION:Voices of Faith North\, 2500 Clean Water Ct\, Buford\, GA\, 30519\, United States
CATEGORIES:Sunday Service
ATTACH;FMTTYPE=image/png:https://vofn.org/wp-content/uploads/2024/03/Pastor.png
END:VEVENT
BEGIN:VEVENT
DTSTART;TZID=America/New_York:20250504T103000
DTEND;TZID=America/New_York:20250504T120000
DTSTAMP:20260423T211541
CREATED:20230225T224251Z
LAST-MODIFIED:20260311T195541Z
UID:10000087-1746354600-1746360000@vofn.org
SUMMARY:Voices of Faith North - Sunday Service
DESCRIPTION:Join us for a dynamic faith-based service\, at voices of faith north.
URL:https://vofn.org/event/voices-of-faith-north-sunday-service/2025-05-04/
LOCATION:Voices of Faith North\, 2500 Clean Water Ct\, Buford\, GA\, 30519\, United States
CATEGORIES:Sunday Service
ATTACH;FMTTYPE=image/png:https://vofn.org/wp-content/uploads/2024/03/Pastor.png
END:VEVENT
BEGIN:VEVENT
DTSTART;TZID=America/New_York:20250427T103000
DTEND;TZID=America/New_York:20250427T120000
DTSTAMP:20260423T211541
CREATED:20230225T224251Z
LAST-MODIFIED:20260311T195541Z
UID:10000086-1745749800-1745755200@vofn.org
SUMMARY:Voices of Faith North - Sunday Service
DESCRIPTION:Join us for a dynamic faith-based service\, at voices of faith north.
URL:https://vofn.org/event/voices-of-faith-north-sunday-service/2025-04-27/
LOCATION:Voices of Faith North\, 2500 Clean Water Ct\, Buford\, GA\, 30519\, United States
CATEGORIES:Sunday Service
ATTACH;FMTTYPE=image/png:https://vofn.org/wp-content/uploads/2024/03/Pastor.png
END:VEVENT
BEGIN:VEVENT
DTSTART;TZID=America/New_York:20250420T080000
DTEND;TZID=America/New_York:20250420T100000
DTSTAMP:20260423T211541
CREATED:20250404T143532Z
LAST-MODIFIED:20250404T143558Z
UID:10000638-1745136000-1745143200@vofn.org
SUMMARY:Easter Sunday Service
DESCRIPTION:You’re Invited! Celebrate Easter Sunday With Us\nHe is Risen! Join us this Easter Sunday as we celebrate the resurrection of Jesus Christ with joy\, worship\, and fellowship. \n🕗 Service Times:8:00 AM & 10:00 AM
URL:https://vofn.org/event/easter-sunday-service/2025-04-20/
LOCATION:Voices of Faith North\, 2500 Clean Water Ct\, Buford\, GA\, 30519\, United States
ATTACH;FMTTYPE=image/jpeg:https://vofn.org/wp-content/uploads/2025/04/Easter-Restream.jpg
END:VEVENT
BEGIN:VEVENT
DTSTART;TZID=America/New_York:20250413T103000
DTEND;TZID=America/New_York:20250413T120000
DTSTAMP:20260423T211541
CREATED:20230225T224251Z
LAST-MODIFIED:20260311T195541Z
UID:10000084-1744540200-1744545600@vofn.org
SUMMARY:Voices of Faith North - Sunday Service
DESCRIPTION:Join us for a dynamic faith-based service\, at voices of faith north.
URL:https://vofn.org/event/voices-of-faith-north-sunday-service/2025-04-13/
LOCATION:Voices of Faith North\, 2500 Clean Water Ct\, Buford\, GA\, 30519\, United States
CATEGORIES:Sunday Service
ATTACH;FMTTYPE=image/png:https://vofn.org/wp-content/uploads/2024/03/Pastor.png
END:VEVENT
BEGIN:VEVENT
DTSTART;TZID=America/New_York:20250406T103000
DTEND;TZID=America/New_York:20250406T120000
DTSTAMP:20260423T211541
CREATED:20230225T224251Z
LAST-MODIFIED:20260311T195541Z
UID:10000083-1743935400-1743940800@vofn.org
SUMMARY:Voices of Faith North - Sunday Service
DESCRIPTION:Join us for a dynamic faith-based service\, at voices of faith north.
URL:https://vofn.org/event/voices-of-faith-north-sunday-service/2025-04-06/
LOCATION:Voices of Faith North\, 2500 Clean Water Ct\, Buford\, GA\, 30519\, United States
CATEGORIES:Sunday Service
ATTACH;FMTTYPE=image/png:https://vofn.org/wp-content/uploads/2024/03/Pastor.png
END:VEVENT
BEGIN:VEVENT
DTSTART;TZID=America/New_York:20250404T100000
DTEND;TZID=America/New_York:20250404T120000
DTSTAMP:20260423T211541
CREATED:20250404T143532Z
LAST-MODIFIED:20250404T143558Z
UID:10000637-1743760800-1743768000@vofn.org
SUMMARY:Easter Sunday Service
DESCRIPTION:You’re Invited! Celebrate Easter Sunday With Us\nHe is Risen! Join us this Easter Sunday as we celebrate the resurrection of Jesus Christ with joy\, worship\, and fellowship. \n🕗 Service Times:8:00 AM & 10:00 AM
URL:https://vofn.org/event/easter-sunday-service/2025-04-04/
LOCATION:Voices of Faith North\, 2500 Clean Water Ct\, Buford\, GA\, 30519\, United States
ATTACH;FMTTYPE=image/jpeg:https://vofn.org/wp-content/uploads/2025/04/Easter-Restream.jpg
END:VEVENT
BEGIN:VEVENT
DTSTART;TZID=America/New_York:20250330T103000
DTEND;TZID=America/New_York:20250330T123000
DTSTAMP:20260423T211541
CREATED:20250304T132941Z
LAST-MODIFIED:20250623T150245Z
UID:10000626-1743330600-1743337800@vofn.org
SUMMARY:Family and Friends Day
DESCRIPTION:
URL:https://vofn.org/event/family-and-friends-day/
LOCATION:Voices of Faith North\, 2500 Clean Water Ct\, Buford\, GA\, 30519\, United States
ATTACH;FMTTYPE=image/jpeg:https://vofn.org/wp-content/uploads/2025/03/familyfriends2025.jpg
END:VEVENT
BEGIN:VEVENT
DTSTART;TZID=America/New_York:20250330T103000
DTEND;TZID=America/New_York:20250330T120000
DTSTAMP:20260423T211541
CREATED:20230225T224251Z
LAST-MODIFIED:20260311T195541Z
UID:10000082-1743330600-1743336000@vofn.org
SUMMARY:Voices of Faith North - Sunday Service
DESCRIPTION:Join us for a dynamic faith-based service\, at voices of faith north.
URL:https://vofn.org/event/voices-of-faith-north-sunday-service/2025-03-30/
LOCATION:Voices of Faith North\, 2500 Clean Water Ct\, Buford\, GA\, 30519\, United States
CATEGORIES:Sunday Service
ATTACH;FMTTYPE=image/png:https://vofn.org/wp-content/uploads/2024/03/Pastor.png
END:VEVENT
BEGIN:VEVENT
DTSTART;TZID=America/New_York:20250323T103000
DTEND;TZID=America/New_York:20250323T120000
DTSTAMP:20260423T211541
CREATED:20230225T224251Z
LAST-MODIFIED:20260311T195541Z
UID:10000081-1742725800-1742731200@vofn.org
SUMMARY:Voices of Faith North - Sunday Service
DESCRIPTION:Join us for a dynamic faith-based service\, at voices of faith north.
URL:https://vofn.org/event/voices-of-faith-north-sunday-service/2025-03-23/
LOCATION:Voices of Faith North\, 2500 Clean Water Ct\, Buford\, GA\, 30519\, United States
CATEGORIES:Sunday Service
ATTACH;FMTTYPE=image/png:https://vofn.org/wp-content/uploads/2024/03/Pastor.png
END:VEVENT
BEGIN:VEVENT
DTSTART;TZID=America/New_York:20250316T103000
DTEND;TZID=America/New_York:20250316T120000
DTSTAMP:20260423T211541
CREATED:20230225T224251Z
LAST-MODIFIED:20260311T195541Z
UID:10000080-1742121000-1742126400@vofn.org
SUMMARY:Voices of Faith North - Sunday Service
DESCRIPTION:Join us for a dynamic faith-based service\, at voices of faith north.
URL:https://vofn.org/event/voices-of-faith-north-sunday-service/2025-03-16/
LOCATION:Voices of Faith North\, 2500 Clean Water Ct\, Buford\, GA\, 30519\, United States
CATEGORIES:Sunday Service
ATTACH;FMTTYPE=image/png:https://vofn.org/wp-content/uploads/2024/03/Pastor.png
END:VEVENT
BEGIN:VEVENT
DTSTART;TZID=America/New_York:20250309T103000
DTEND;TZID=America/New_York:20250309T120000
DTSTAMP:20260423T211541
CREATED:20230225T224251Z
LAST-MODIFIED:20260311T195541Z
UID:10000079-1741516200-1741521600@vofn.org
SUMMARY:Voices of Faith North - Sunday Service
DESCRIPTION:Join us for a dynamic faith-based service\, at voices of faith north.
URL:https://vofn.org/event/voices-of-faith-north-sunday-service/2025-03-09/
LOCATION:Voices of Faith North\, 2500 Clean Water Ct\, Buford\, GA\, 30519\, United States
CATEGORIES:Sunday Service
ATTACH;FMTTYPE=image/png:https://vofn.org/wp-content/uploads/2024/03/Pastor.png
END:VEVENT
BEGIN:VEVENT
DTSTART;TZID=America/New_York:20250302T103000
DTEND;TZID=America/New_York:20250302T120000
DTSTAMP:20260423T211541
CREATED:20230225T224251Z
LAST-MODIFIED:20260311T195541Z
UID:10000078-1740911400-1740916800@vofn.org
SUMMARY:Voices of Faith North - Sunday Service
DESCRIPTION:Join us for a dynamic faith-based service\, at voices of faith north.
URL:https://vofn.org/event/voices-of-faith-north-sunday-service/2025-03-02/
LOCATION:Voices of Faith North\, 2500 Clean Water Ct\, Buford\, GA\, 30519\, United States
CATEGORIES:Sunday Service
ATTACH;FMTTYPE=image/png:https://vofn.org/wp-content/uploads/2024/03/Pastor.png
END:VEVENT
BEGIN:VEVENT
DTSTART;TZID=America/New_York:20250223T103000
DTEND;TZID=America/New_York:20250223T120000
DTSTAMP:20260423T211541
CREATED:20230225T224251Z
LAST-MODIFIED:20260311T195541Z
UID:10000077-1740306600-1740312000@vofn.org
SUMMARY:Voices of Faith North - Sunday Service
DESCRIPTION:Join us for a dynamic faith-based service\, at voices of faith north.
URL:https://vofn.org/event/voices-of-faith-north-sunday-service/2025-02-23/
LOCATION:Voices of Faith North\, 2500 Clean Water Ct\, Buford\, GA\, 30519\, United States
CATEGORIES:Sunday Service
ATTACH;FMTTYPE=image/png:https://vofn.org/wp-content/uploads/2024/03/Pastor.png
END:VEVENT
BEGIN:VEVENT
DTSTART;TZID=America/New_York:20250216T103000
DTEND;TZID=America/New_York:20250216T120000
DTSTAMP:20260423T211541
CREATED:20230225T224251Z
LAST-MODIFIED:20260311T195541Z
UID:10000076-1739701800-1739707200@vofn.org
SUMMARY:Voices of Faith North - Sunday Service
DESCRIPTION:Join us for a dynamic faith-based service\, at voices of faith north.
URL:https://vofn.org/event/voices-of-faith-north-sunday-service/2025-02-16/
LOCATION:Voices of Faith North\, 2500 Clean Water Ct\, Buford\, GA\, 30519\, United States
CATEGORIES:Sunday Service
ATTACH;FMTTYPE=image/png:https://vofn.org/wp-content/uploads/2024/03/Pastor.png
END:VEVENT
BEGIN:VEVENT
DTSTART;TZID=America/New_York:20250209T103000
DTEND;TZID=America/New_York:20250209T120000
DTSTAMP:20260423T211541
CREATED:20230225T224251Z
LAST-MODIFIED:20260311T195541Z
UID:10000075-1739097000-1739102400@vofn.org
SUMMARY:Voices of Faith North - Sunday Service
DESCRIPTION:Join us for a dynamic faith-based service\, at voices of faith north.
URL:https://vofn.org/event/voices-of-faith-north-sunday-service/2025-02-09/
LOCATION:Voices of Faith North\, 2500 Clean Water Ct\, Buford\, GA\, 30519\, United States
CATEGORIES:Sunday Service
ATTACH;FMTTYPE=image/png:https://vofn.org/wp-content/uploads/2024/03/Pastor.png
END:VEVENT
BEGIN:VEVENT
DTSTART;TZID=America/New_York:20250202T103000
DTEND;TZID=America/New_York:20250202T120000
DTSTAMP:20260423T211541
CREATED:20230225T224251Z
LAST-MODIFIED:20260311T195541Z
UID:10000074-1738492200-1738497600@vofn.org
SUMMARY:Voices of Faith North - Sunday Service
DESCRIPTION:Join us for a dynamic faith-based service\, at voices of faith north.
URL:https://vofn.org/event/voices-of-faith-north-sunday-service/2025-02-02/
LOCATION:Voices of Faith North\, 2500 Clean Water Ct\, Buford\, GA\, 30519\, United States
CATEGORIES:Sunday Service
ATTACH;FMTTYPE=image/png:https://vofn.org/wp-content/uploads/2024/03/Pastor.png
END:VEVENT
BEGIN:VEVENT
DTSTART;TZID=America/New_York:20250126T103000
DTEND;TZID=America/New_York:20250126T120000
DTSTAMP:20260423T211541
CREATED:20230225T224251Z
LAST-MODIFIED:20260311T195541Z
UID:10000073-1737887400-1737892800@vofn.org
SUMMARY:Voices of Faith North - Sunday Service
DESCRIPTION:Join us for a dynamic faith-based service\, at voices of faith north.
URL:https://vofn.org/event/voices-of-faith-north-sunday-service/2025-01-26/
LOCATION:Voices of Faith North\, 2500 Clean Water Ct\, Buford\, GA\, 30519\, United States
CATEGORIES:Sunday Service
ATTACH;FMTTYPE=image/png:https://vofn.org/wp-content/uploads/2024/03/Pastor.png
END:VEVENT
BEGIN:VEVENT
DTSTART;TZID=America/New_York:20250119T103000
DTEND;TZID=America/New_York:20250119T120000
DTSTAMP:20260423T211541
CREATED:20230225T224251Z
LAST-MODIFIED:20260311T195541Z
UID:10000072-1737282600-1737288000@vofn.org
SUMMARY:Voices of Faith North - Sunday Service
DESCRIPTION:Join us for a dynamic faith-based service\, at voices of faith north.
URL:https://vofn.org/event/voices-of-faith-north-sunday-service/2025-01-19/
LOCATION:Voices of Faith North\, 2500 Clean Water Ct\, Buford\, GA\, 30519\, United States
CATEGORIES:Sunday Service
ATTACH;FMTTYPE=image/png:https://vofn.org/wp-content/uploads/2024/03/Pastor.png
END:VEVENT
BEGIN:VEVENT
DTSTART;TZID=America/New_York:20250112T103000
DTEND;TZID=America/New_York:20250112T120000
DTSTAMP:20260423T211541
CREATED:20230225T224251Z
LAST-MODIFIED:20260311T195541Z
UID:10000071-1736677800-1736683200@vofn.org
SUMMARY:Voices of Faith North - Sunday Service
DESCRIPTION:Join us for a dynamic faith-based service\, at voices of faith north.
URL:https://vofn.org/event/voices-of-faith-north-sunday-service/2025-01-12/
LOCATION:Voices of Faith North\, 2500 Clean Water Ct\, Buford\, GA\, 30519\, United States
CATEGORIES:Sunday Service
ATTACH;FMTTYPE=image/png:https://vofn.org/wp-content/uploads/2024/03/Pastor.png
END:VEVENT
END:VCALENDAR